BEGIN:VCALENDAR
VERSION:2.0
PRODID:-//Gratis-in-Berlin//NONSGML kigkonsult.se iCalcreator 2.14//
METHOD:PUBLISH
X-WR-CALNAME:Gratis-in-Berlin Tip Kalender
X-WR-CALDESC:Erhalte Gratis-in-Berlin Tips in deinem Kalender
BEGIN:VEVENT
UID:20260419T164804UTC-1035MxUf6Z@Gratis-in-Berlin
DTSTAMP:20260419T164804Z
DESCRIPTION:Einlass: ab 19:00 UhrVerleiht ein Abschied Flügel\, macht Leidenscha
 ft blind\, hinterlässt die verzehrende Flamme der Sehnsucht nichts als ein H
 äufchen erkalteter Asche? Von all dem erzählt in freier Rede und musikalisch b
 egleitet die Gruppe Sieben und ein Streich: Geschichten von überall und hier\, 
 spannend\, unterhaltsam\, nachdenklich\, zum Schmunzeln\, wahr und ausgeda
 cht.Eine Anmeldung ist nicht erforderlich.Eine Veranstaltung von Sieben un
 d ein Streich.\n\nViel Spass wünscht Gratis-in-Berlin\n\nLink zum Tip: \nZu den
  Gratis-in-Berlin Angeboten: http://www.gratis-in-berlin.de\n
DTSTART;VALUE=DATE:20260423
DTEND;VALUE=DATE:20260424
SUMMARY:»Sehnsucht\, Leidenschaft und Abschied« ? Erzählabend
END:VEVENT
END:VCALENDAR
