BEGIN:VCALENDAR
VERSION:2.0
PRODID:-//Gratis-in-Berlin//NONSGML kigkonsult.se iCalcreator 2.14//
METHOD:PUBLISH
X-WR-CALNAME:Gratis-in-Berlin Tip Kalender
X-WR-CALDESC:Erhalte Gratis-in-Berlin Tips in deinem Kalender
BEGIN:VEVENT
UID:20260419T152153UTC-9989wg2AIU@Gratis-in-Berlin
DTSTAMP:20260419T152153Z
DESCRIPTION:Bilderbuchkino X Zula reading TribeDer ZULA Reading Tribe ist a
 m Kotti zu Gast! Familien mit Kindern im Alter von 4 bis 7 Jahren mit unte
 rschiedlichen kulturellen und wirtschaftlichen Hintergründen sind eingeladen in
  die Mittelpunktbibliothek\, um sich kennenzulernen\, gemeinsam zu basteln
  ? und natürlich zu lesen!ZULA Tribe ist eine deutsche gemeinnützige Organisation\, 
 die sich der Bekämpfung von Lese- und Schreibbarrieren widmet und Chancen für all
 e Kinder schafft ? unabhängig von ihrem Hintergrund oder ihren Bedürfnissen. Die 
 ZULA Reading Tribe bringt Familien in lokalen Bibliotheken zusammen\, um d
 ie Freude am Geschichtenerzählen zu entdecken. Neben den pädagogischen Zielen 
 sind die Lesungen aber auch unterhaltsam und inklusiv gestaltet und sollen
  stärkere Gemeinschaftsverbindungen aufbauen.Mit freundlicher Unterstützung von a
 udible.zula-tribe.com11. Mai 2026 // 16:30 Uhr- Eintritt frei- ohne Voranm
 eldung- in der Kinderbibliothek im 1. OG- Familien mit Kindern von 4 bis 7
  Jahren\n\nViel Spass wünscht Gratis-in-Berlin\n\nLink zum Tip: https://www.gra
 tis-in-berlin.de/lesungen-hoerspiele/item/2078179-zula-reading-tribe\nZu d
 en Gratis-in-Berlin Angeboten: http://www.gratis-in-berlin.de\n
DTSTART;VALUE=DATE:20260511
DTEND;VALUE=DATE:20260512
SUMMARY:ZULA Reading Tribe
END:VEVENT
END:VCALENDAR
