BEGIN:VCALENDAR
VERSION:2.0
PRODID:-//Gratis-in-Berlin//NONSGML kigkonsult.se iCalcreator 2.14//
METHOD:PUBLISH
X-WR-CALNAME:Gratis-in-Berlin Tip Kalender
X-WR-CALDESC:Erhalte Gratis-in-Berlin Tips in deinem Kalender
BEGIN:VEVENT
UID:20260419T164805UTC-1763HxH9gv@Gratis-in-Berlin
DTSTAMP:20260419T164805Z
DESCRIPTION:Im August 1912 bricht die Besatzung der Herzog Ernst unter Expe
 ditionsleiter Herbert Schröder-Stranz nach Spitzbergen auf. Es ist die Zeit d
 er großen Polarfahrten\, der Wettlauf zum Südpol ist in vollem Gange. Auch die D
 eutsche Arktische Expedition soll aus mutigen Männern Helden machen. Doch di
 e Mission\, gescheitert an Unerfahrenheit und grenzenloser Selbstüberschätzung\, 
 endet in einem Desaster. Von immer waghalsigeren Kursänderungen\, dem zermürbende
 n Kampf gegen die eisige Kälte und spektakulären Rettungsmissionen: Mit atemra
 ubender Spannung erzählt Jürgen Kehrer die packende Geschichte dieses katastropha
 len Abenteuers - und geht der uralten Sehnsucht auf den Grund\, ein Held s
 ein zu wollen. Jürgen Kehrer ist Journalist und Schriftsteller. 1990 erschien d
 er erste Teil seiner Kriminalreihe über den Privatdetektiv Georg Wilsberg aus M
 ünster. Seit 1995 ist Wilsberg Held einer Fernseh-Krimireihe im ZDF. Darüber hinaus 
 schreibt Jürgen Kehrer historische und in der Gegenwart angesiedelte Kriminalro
 mane\, Drehbücher fürs Fernsehen sowie Sachbücher. Jürgen Kehrer lebt mit seiner Frau in Berli
 n.\n\nViel Spass wünscht Gratis-in-Berlin\n\nLink zum Tip: \nZu den Gratis-in-B
 erlin Angeboten: http://www.gratis-in-berlin.de\n
DTSTART;VALUE=DATE:20260520
DTEND;VALUE=DATE:20260521
SUMMARY:Jürgen Kehrer liest aus ?Heldenreise ins ewige Eis'
END:VEVENT
END:VCALENDAR
