BEGIN:VCALENDAR
VERSION:2.0
PRODID:-//Gratis-in-Berlin//NONSGML kigkonsult.se iCalcreator 2.14//
METHOD:PUBLISH
X-WR-CALNAME:Gratis-in-Berlin Tip Kalender
X-WR-CALDESC:Erhalte Gratis-in-Berlin Tips in deinem Kalender
BEGIN:VEVENT
UID:20260419T182638UTC-7169CbhILd@Gratis-in-Berlin
DTSTAMP:20260419T182638Z
DESCRIPTION:Xi Jinping verfolgt knallharte Interessen: die Formung einer We
 lt mit China an der Spitze. Deutschland spielt derzeit dabei nur eine nützliche
  Nebenrolle. Das zu erkennen\, sollte uns nicht frustrieren\, sondern moti
 vieren! Wenn wir Schlüsseltechnologien\, Infrastruktur und Digitalisierung vora
 ntreiben\, Entscheidungen in Politik und Wirtschaft beschleunigen und vor 
 allem zwei Verhaltensweisen ablegen: unsere Unentschlossenheit und unser H
 armoniedenken ? dann können wir wieder Verhandlungspartner auf Augenhöhe werden.
  Denn China braucht uns\, politisch\, aber auch wirtschaftlich. China-Expe
 rte und Spiegel-Bestsellerautor Felix Lee und der langjähriger Handelsblatt-
 Korrespondent für Ostasien Finn Mayer-Kuckuk entwerfen Wege aus dem China-Dilem
 ma. Felix Lee\, geb. 1975 in Wolfsburg\, studierte Soziologie\, Volkswirts
 chaft und Politik und absolvierte die Berliner Journalistenschule. Von 200
 3 bis 2022 arbeitete er als Wirtschafts- und Politikredakteur der taz. Ab 
 2010 war er neun Jahre China-Korrespondent in Peking. Er arbeitete für Table Me
 dia\, bevor er Redakteur bei Süddeutsche Zeitung Dossier wurde. Sein Buch »China
 \, mein Vater und ich« wurde zum Spiegel-Bestseller\, gewann den Deutschen 
 Wirtschaftsbuchpreis 2023 und war ein Jahr lang unter den Top 10 des manag
 er magazin.\n\nViel Spass wünscht Gratis-in-Berlin\n\nLink zum Tip: \nZu den Gr
 atis-in-Berlin Angeboten: http://www.gratis-in-berlin.de\n
DTSTART;VALUE=DATE:20260506
DTEND;VALUE=DATE:20260507
SUMMARY:?China: Auswege aus einem Dilemma? Lesung und Gespräch mit Felix Lee 
  
END:VEVENT
END:VCALENDAR
