BEGIN:VCALENDAR
VERSION:2.0
PRODID:-//Gratis-in-Berlin//NONSGML kigkonsult.se iCalcreator 2.14//
METHOD:PUBLISH
X-WR-CALNAME:Gratis-in-Berlin Tip Kalender
X-WR-CALDESC:Erhalte Gratis-in-Berlin Tips in deinem Kalender
BEGIN:VEVENT
UID:20260419T182730UTC-04598umfUA@Gratis-in-Berlin
DTSTAMP:20260419T182730Z
DESCRIPTION:Lesung und GesprächModeration: Dr. Andreas Etges (Amerika-Institu
 t Ludwig-Maximilians-Universität München)Bei schönem Wetter findet die Veranstaltung
  im Bibliotheksgarten statt.Eine Anmeldung ist nicht erforderlich. Platzre
 servierungen sind unter https://www.offen-fuer-kultur.de/programm/2026/07/
 05/rieke-havertz-goodbye-amerika-die-usa-und-wir-eine-neuvermessung/ möglich.
 Ein Präsident\, der offen die Verfassung angreift\, das Oval Office als Gefäll
 igkeitsbörse\, das transatlantische Bündnis in der Krise. Schon im ersten Jahr von
  Donald Trumps zweiter Amtszeit ist klar\, dass diese vier Jahre nicht ein
 fach unbeschadet ausgesessen werden können. Vielmehr stehen wir vor der grund
 legenden Frage: »Goodbye\, Amerika?«\, die Trump uns aufgezwungen hat.Die la
 ngjährige USA-Expertin Rieke Havertz lädt uns ein in ihr Amerika. Auf eine per
 sönliche Reise durch Erinnerungen\, amerikanische Ambivalenzen und ein sich v
 eränderndes Land\, das uns doch alle betrifft. ? Immer mit der Hoffnung\, di
 eses streitbare\, entnervende\, wunderbare\, aufregende Land nicht aufgebe
 n zu müssen.»Rieke Havertz kennt Amerika besser als die meisten Amerikaner. Ihre
  Stimme ist entscheidend\, um uns dieses tief gespaltene Land näherzubringen
 .« Anne Hull\, Pulitzer-Preis-Gewinnerin und langjährige Journalistin für die Wash
 ington Post.Rieke Havertz\, Jahrgang 1980\, ist internationale Korresponde
 ntin bei der ZEIT und seit 2020 Co-Host des Podcasts »OK\, America?«. Mehrer
 e Jahre hat sie aus Washington über das Land berichtet\, in das sie sich vor über 20
  Jahren verliebt hat ? auch wenn sie manchmal an ihm verzweifelt. Havertz 
 hat in Leipzig und an der Ohio University Journalismus und Amerikanistik s
 tudiert. Nach Stationen bei der taz ist sie seit 2016 bei DIE ZEIT.Die Ver
 anstaltung findet im Rahmen des Projekts OFFEN FÜR KULTUR in der Hansabibli
 othek statt und ist kostenfrei.Dass vollständige Programm von OFFEN FÜR KULTU
 R findet ihr hier: www.offen-fuer-kultur.de.OFFEN FÜR KULTUR wird mit Mitte
 ln der LOTTO-Stiftung Berlin finanziert.(Foto: Jacobia Dahm)\n\nViel Spass
  wünscht Gratis-in-Berlin\n\nLink zum Tip: \nZu den Gratis-in-Berlin Angeboten:
  http://www.gratis-in-berlin.de\n
DTSTART;VALUE=DATE:20260705
DTEND;VALUE=DATE:20260706
SUMMARY:Rieke Havertz: Goodbye\, Amerika? Die USA und wir ? eine Neuvermess
 ung
END:VEVENT
END:VCALENDAR
