BEGIN:VCALENDAR
VERSION:2.0
PRODID:-//Gratis-in-Berlin//NONSGML kigkonsult.se iCalcreator 2.14//
METHOD:PUBLISH
X-WR-CALNAME:Gratis-in-Berlin Tip Kalender
X-WR-CALDESC:Erhalte Gratis-in-Berlin Tips in deinem Kalender
BEGIN:VEVENT
UID:20260421T111014UTC-6763EsW4S0@Gratis-in-Berlin
DTSTAMP:20260421T111014Z
DESCRIPTION:Einmal im Monat lädt die artothek berlin zum Artist Talk: In ents
 pannter Atmosphäre geben Künstler:innen der Sammlung persönliche Einblicke in ihre A
 rbeit und ihre Perspektiven. Moderiert von Marc Gröszer und Jan Gottschalk en
 tstehen lebendige Gespräche ? direkt\, nahbar und inspirierend. Kommen Sie v
 orbei\, entdecken Sie Kunst neu und treten Sie in den Dialog.Die Veranstal
 tung findet im Veranstaltungsraum statt.\n\nViel Spass wünscht Gratis-in-Berlin
 \n\nLink zum Tip: \nZu den Gratis-in-Berlin Angeboten: http://www.gratis-i
 n-berlin.de\n
DTSTART;VALUE=DATE:20260423
DTEND;VALUE=DATE:20260424
SUMMARY:Artist Talk: Kunst trifft Gespräch
END:VEVENT
END:VCALENDAR
