BEGIN:VCALENDAR
VERSION:2.0
PRODID:-//Gratis-in-Berlin//NONSGML kigkonsult.se iCalcreator 2.14//
METHOD:PUBLISH
X-WR-CALNAME:Gratis-in-Berlin Tip Kalender
X-WR-CALDESC:Erhalte Gratis-in-Berlin Tips in deinem Kalender
BEGIN:VEVENT
UID:20260419T164803UTC-9026rDz0Oz@Gratis-in-Berlin
DTSTAMP:20260419T164803Z
DESCRIPTION:Auch in diesem Jahr findet die nun bereits 27. Lange Buchnacht 
 in der Oranienstraße bei überall freiem Eintritt statt. Gefördert wird das Event vo
 m Berliner Autorenlesefonds. Die Mörderischen Schwestern Berlin e.V. sind am 
 Sonnabend\, den 9. Mai 2026\, an zwei Veranstaltungsorten dabei. In ?Schmi
 tz Katze? geht es von 18 bis 20 Uhr kriminell zu (Oranienstraße 163\, 10969
  Berlin). Die literarischen ?Schwestern? Swenja Karsten\, Salean A. Maiwal
 d und Chiara Sing lesen Krimigeschichten. Garantierte Spannung bis zum Sch
 luss. Um 20 Uhr beginnt für anderthalb Stunden die Lesung in der Mittelpunktbib
 liothek Wilhelm Liebknecht /Namik Kemal (Adalbertstraße 2\, 10999 Berlin). 
 Im Gepäck der Autorinnen Kerstin Finkelstein\, Slavica Klimkowsky\, Susanne 
 Rüster und Gisela Witte: mörderisch gute Werke. Zur Langen Buchnacht können alle Lite
 raturbegeisterten die Oranienstraße entlang flanieren und immer wieder Halt
  machen\, um den unterschiedlichen Lesungen zu lauschen. Sämtliche teilnehme
 nden Orte gestalten ihr Programm eigenverantwortlich. Die Autorinnen gehören 
 zur Berliner Regionalgruppe des Vereins Mörderische Schwestern e.V.\, der nat
 ional und international rund 800 Mitstreiterinnen in sich vereint: Krimiau
 torinnen\, Buchhändlerinnen und der Kriminalliteratur Verbundene. Allein in 
 der Hauptstadt gehören rund 70 Frauen dazu. Die Mörderischen Schwestern kennen s
 ich aus mit menschlichen Abgründen\, Gewalt und Tod ? in ihren Büchern. In der Reali
 tät bauen sie stattdessen auf Solidarität: Sie haben sich als Frauennetzwerk z
 usammengeschlossen\, um von Frauen geschriebene\, deutschsprachige Krimina
 lliteratur zu fördern. Die Schwestern unterstützen sich gegenseitig durch Expertin
 nenwissen\, geben sich Tipps für Stipendien ? vergeben sogar ein eigenes ? und 
 organisieren Gemeinschaftsaktionen mit anderen Netzwerken und Verbänden. Auc
 h in diesem Jahr schlagen Mörderische Schwestern mit raffiniertem Plot und li
 terarischer Energie zur Langen Buchnacht todbringend sowie fallaufklärend zu
  und sorgen für mörderisches Hör- und Lesevergnügen.Illustration: Lange Buchnacht\n\nVi
 el Spass wünscht Gratis-in-Berlin\n\nLink zum Tip: \nZu den Gratis-in-Berlin An
 geboten: http://www.gratis-in-berlin.de\n
DTSTART;VALUE=DATE:20260509
DTEND;VALUE=DATE:20260510
SUMMARY:Lange Buchnacht: Mit dabei Mörderische Schwestern Berlin e.V.
END:VEVENT
END:VCALENDAR
