BEGIN:VCALENDAR
VERSION:2.0
PRODID:-//Gratis-in-Berlin//NONSGML kigkonsult.se iCalcreator 2.14//
METHOD:PUBLISH
X-WR-CALNAME:Gratis-in-Berlin Tip Kalender
X-WR-CALDESC:Erhalte Gratis-in-Berlin Tips in deinem Kalender
BEGIN:VEVENT
UID:20260419T151956UTC-2989U5WHV7@Gratis-in-Berlin
DTSTAMP:20260419T151956Z
DESCRIPTION:Winfried Ripp liest aus seinem Buch ?Der Berliner Asyl-Verein f
 ür Obdachlose. Die Auseinandersetzung um die Obdachlosigkeit im Kaiserreich? (M
 etropol-Verlag). Die Studie widmet sich der Geschichte des 1868 gegründeten Ber
 liner Asylvereins\, der aus bürgerlicher Initiative hervorging und zu den wicht
 igsten Einrichtungen der Armenfürsorge im Kaiserreich zählte. Im Zentrum steht di
 e Frage\, wie Obdachlosigkeit im 19. Jahrhundert wahrgenommen\, politisch 
 verhandelt und praktisch organisiert wurde. Dabei zeichnet das Buch nicht 
 nur die institutionelle Entwicklung des Vereins nach\, sondern beleuchtet 
 auch die sozialen Konflikte\, moralischen Vorstellungen und ordnungspoliti
 schen Interessen\, die den Umgang mit Wohnungslosigkeit bestimmten. Ein be
 sonderer Fokus liegt in Ripps Buch auf den Berliner Asylen selbst ? ihren 
 Strukturen\, ihrem Alltag und den Menschen\, die sie nutzten. Eines der wi
 chtigsten Häuser befand sich in der Büschingstraße in Friedrichshain. Kurator dies
 es Asyls und Vorsitzender des Vereins war Paul Singer\, der die Arbeit ent
 scheidend mitprägte. Der Paul-Singer-Verein hat die Publikation unterstützt. Mode
 ration: Martin Düspohl Ort: Projektraum in der Alten Feuerwache\, Marchlewskist
 raße 6\, 10243 Berlin Teilnahme kostenlosBitte anmelden ? begrenzte Kapazit
 ät\n\nViel Spass wünscht Gratis-in-Berlin\n\nLink zum Tip: \nZu den Gratis-in-Ber
 lin Angeboten: http://www.gratis-in-berlin.de\n
DTSTART;VALUE=DATE:20260423
DTEND;VALUE=DATE:20260424
SUMMARY:Der Berliner Asyl-Verein für Obdachlose. Die Auseinandersetzung um die O
 bdachlosigkeit im Kaiserreich
END:VEVENT
END:VCALENDAR
