BEGIN:VCALENDAR
VERSION:2.0
PRODID:-//Gratis-in-Berlin//NONSGML kigkonsult.se iCalcreator 2.14//
METHOD:PUBLISH
X-WR-CALNAME:Gratis-in-Berlin Tip Kalender
X-WR-CALDESC:Erhalte Gratis-in-Berlin Tips in deinem Kalender
BEGIN:VEVENT
UID:20260419T182756UTC-7356K8KDWW@Gratis-in-Berlin
DTSTAMP:20260419T182756Z
DESCRIPTION:Paul Karasik stellt die grafische Umsetzung von Paul Austers ?N
 ew-York-Trilogie? vor. Als treibende Kraft hinter allen drei Comicadaption
 en geht er mit Thomas Böhm (Literaturagenten) ins Gespräch zu den drei klassisc
 hen Detektivgeschichten: ?Stadt aus Glas?\, illustriert vom preisgekrönten Ze
 ichner David Mazzucchelli\, ?Schlagschatten?\, umgesetzt von Lorenzo Matto
 tti und ?Hinter verschlossenen Türen?\, das von Paul Karasik selbst adaptiert u
 nd gezeichnet wurde.Zum Buch:1994 wurde Paul Austers ?Stadt aus Glas? von 
 Paul Karasik und David Mazzucchelli als Comic adaptiert und ist inzwischen
  zum Klassiker avanciert. Nun sind auch die beiden anderen Romane von Paul
  Austers gefeierter ?New-York-Trilogie? grafisch umgesetzt: ?Schlagschatte
 n? und ?Hinter verschlossenen Türen?. In drei brillanten Variationen klassische
 r Detektivgeschichten macht sich Paul Auster New York City zu eigen. Die S
 tadt wird zu einer seltsamen\, fesselnden Landschaft\, in der Identitäten ve
 rschmelzen oder verschwinden\, Verfolgte zu Verfolgten werden und sich in 
 ein Spiel mit den eigenen Erwartungen verstricken.Paul Karasik wurde 1956 
 in Washington DC. geboren. Nachdem er zunächst am Pratt Institute eingeschri
 eben war\, studierte er später an der School Visual Arts in New York unter a
 nderem bei Will Eisner\, Harvey Kurtzman und Art Spiegelman. Mit Art Spieg
 elman und dessen Frau Francoise Mouly war er Mitherausgeber der Anthologie
  ?RAW?.Moderiert wird der Abend von Thomas Böhm (Autor\, Literaturvermittler 
 und Moderator)\, die Comiclesung wird von Matthias Wieland (Redakteur\, Übe
 rsetzer\, Moderator und Comic-(Vor-)Leser) umgesetzt.11. Mai 2026 // 19 Uh
 r- Bezirkszentralbibliothek Pablo Neruda- Eintritt frei- Anmeldung unter d
 iesem Link: https://pretix.eu/bibxhain/karasik/\n\nViel Spass wünscht Gratis-in
 -Berlin\n\nLink zum Tip: \nZu den Gratis-in-Berlin Angeboten: http://www.g
 ratis-in-berlin.de\n
DTSTART;VALUE=DATE:20260511
DTEND;VALUE=DATE:20260512
SUMMARY: Paul Karasik präsentiert: Paul Austers ?New-York-Trilogie?
END:VEVENT
END:VCALENDAR
