BEGIN:VCALENDAR
VERSION:2.0
PRODID:-//Gratis-in-Berlin//NONSGML kigkonsult.se iCalcreator 2.14//
METHOD:PUBLISH
X-WR-CALNAME:Gratis-in-Berlin Tip Kalender
X-WR-CALDESC:Erhalte Gratis-in-Berlin Tips in deinem Kalender
BEGIN:VEVENT
UID:20260419T164821UTC-4766vvr33E@Gratis-in-Berlin
DTSTAMP:20260419T164821Z
DESCRIPTION:Die Mörderischen Schwestern kennen sich aus mit menschlichen Abgründen\
 , Gewalt und Tod ? in ihren Büchern. In der Realität bauen sie stattdessen auf So
 lidarität: Sie haben sich als Frauen-Netzwerk zusammengeschlossen\, um von F
 rauen geschriebene\, deutschsprachige Kriminalliteratur zu fördern. Die Schwe
 stern unterstützen sich gegenseitig durch Expertinnen-Wissen\, geben sich Tipps
  für Stipendien ? vergeben sogar ein eigenes ? und organisieren Gemeinschaftsak
 tionen mit anderen Netzwerken und Verbänden.Auch in diesem Jahr hauen vier M
 örderische Schwestern mit raffiniertem Plot und literarischer Energie Tod-bri
 ngend sowie Fall-aufklärend zu und sorgen für mörderisches Hör- und Lesevergnügen. Es les
 en Kerstin Finkelstein\, Slavica Klimkowsky\, Susanne Rüster und Gisela Witte..
  9. Mai 2026\, 20 Uhr- Eintritt frei- ohne Voranmeldung- Mittelpunktbiblio
 thek Wilhelm Liebknecht / Namik Kemal Programmübersicht Lange Buchnacht in der 
 Mittelpunktbibliothek\n\nViel Spass wünscht Gratis-in-Berlin\n\nLink zum Tip: 
 \nZu den Gratis-in-Berlin Angeboten: http://www.gratis-in-berlin.de\n
DTSTART;VALUE=DATE:20260509
DTEND;VALUE=DATE:20260510
SUMMARY: Lange Buchnacht: Mörderische Schwestern
END:VEVENT
END:VCALENDAR
