BEGIN:VCALENDAR
VERSION:2.0
PRODID:-//Gratis-in-Berlin//NONSGML kigkonsult.se iCalcreator 2.14//
METHOD:PUBLISH
X-WR-CALNAME:Gratis-in-Berlin Tip Kalender
X-WR-CALDESC:Erhalte Gratis-in-Berlin Tips in deinem Kalender
BEGIN:VEVENT
UID:20260420T143204UTC-8581ugTdgf@Gratis-in-Berlin
DTSTAMP:20260420T143204Z
DESCRIPTION:Die Undercover-Reporterin und Weltreisende Nellie Bly Am 14. No
 vember 1889 bricht die 25-jährige Journalistin Nellie Bly zur Weltumrundung 
 in Rekordzeit auf. Ein einziges Mal weicht sie von ihrer Route ab\, um im 
 französischen Amiens den Romancier Jules Verne zu treffen\, dessen fiktiven R
 ekord sie noch um acht Tage unterbieten wird. Bereits zwei Jahre zuvor war
  Nellie Bly durch ihren spektakulären Enthüllungsbericht über die Missstände in einer ps
 ychiatrischen Anstalt New Yorks berühmt geworden. Ihr Buch »Around the World in 
 72 Days« wurde zum journalistischen Coup des Jahres und zum Höhepunkt ihrer Ka
 rriere. Bei ihrer Rück&shy\;kehr wurde sie zur »nationalen Per&shy\;sön&shy\;lich&s
 hy\;keit« (New York Times). Lange Zeit war sie vergessen\, wird inzwischen 
 aber als Pionierin wiederentdeckt. Britta Jürgs vom AvivA-Verlag stellt zusamme
 n mit der Schauspielerin Simone Hausdorf Nellie Bly und ihre von Martin Wa
 gner herausgegebenen und von Martin Wagner bzw. von Josefine Haubold übersetzte
 n Bücher vor. Für die Veranstaltung ist keine Anmeldung erforderlich. In Kooperation
  mit dem AvivA-Verlag.Bildnachweis: NellieBly2_gemeinfrei_CC\n\nViel Spass
  wünscht Gratis-in-Berlin\n\nLink zum Tip: \nZu den Gratis-in-Berlin Angeboten:
  http://www.gratis-in-berlin.de\n
DTSTART;VALUE=DATE:20260527
DTEND;VALUE=DATE:20260528
SUMMARY:Lesereihe: Auf den Spuren vergessener Schriftstellerinnen
END:VEVENT
END:VCALENDAR
