BEGIN:VCALENDAR
VERSION:2.0
PRODID:-//Gratis-in-Berlin//NONSGML kigkonsult.se iCalcreator 2.14//
METHOD:PUBLISH
X-WR-CALNAME:Gratis-in-Berlin Tip Kalender
X-WR-CALDESC:Erhalte Gratis-in-Berlin Tips in deinem Kalender
BEGIN:VEVENT
UID:20260420T164647UTC-9175f8t7K9@Gratis-in-Berlin
DTSTAMP:20260420T164647Z
DESCRIPTION:Am Vorabend des Aktions-Wochenendes zum ?Langen Tag der Stadtna
 tur? präsentiert der Berliner Kadmos Verlag zwei Bücher mit vergnüglichen Einblicken i
 n die Tierwelt. Mit dem Titel ?Berliner Tiere? von Marie Parakenings werde
 n ?Naturbanausen? und ?Stadtkinder? in die Welt der über 20.000 Wildtierarten B
 erlins entführt. Und wie sich ?einsamen Wölfe? und ?Turteltäubchen? auf Partnersuche
  begeben\, stellt der Band ?Flirtende Fauna? charmant vor - illustriert vo
 n Anja Finsterbusch und textlich begleitet vom Kadmos-Verlagsteam.Anmeldun
 g über Pretix:https://pretix.eu/Philipp-Schaeffer-Bibliothek/kadmos290526/Marie
  ParakeningsBerliner TiereEin kleiner Guide für Naturbanausen und StadtkinderNe
 ben aktuell 104.757 Hunden und 3\,63 Millionen Menschen leben in Berlin au
 ch über 20.000 Wildtierarten ? Arten\, wohlgemerkt\, nicht Exemplare! Ganz gena
 u zählen konnte noch niemand so richtig. Fakt aber ist\, dass sich nicht nur
  die menschlichen Bewohner an die Lebensbedingungen der Hauptstadt angepas
 st haben. Vom Spatz\, der sein Nest aus Zigarettenstummeln baut\, zur Bahn
 hofsmaus\, deren Verdauungssystem sich an Dönerfleisch angepasst hat... Es gi
 bt einfach tierisch viel zu entdecken in einer Stadt wie Berlin.Dieses dur
 ch die Autorin traumhaft illustrierte Buch versammelt einige dieser erstau
 nlichen Tiere und zeigt so eine etwas andere Art des »wilden Berlins«. Geeig
 net für Alteingesessene und Neuankömmlinge mit einem Faible für unnützes\, aber gleichsam he
 rrlich unterhaltsames Wissen.Anja Finsterbusch (Illustration)\, Kadmos-Ver
 lagsteam (Text)Flirtende FaunaEin tierischer Ratgeber für einsame Wölfe &amp\; Tur
 teltäubchenDen richtigen Partner zu finden\, stellt nicht nur Zweibeiner vor
  eine große Herausforderung. In diesem Buch stellen wir die Profis der Verf
 ührung vor. Lass Dich bezaubern von betörenden Biestern\, charmanten Carnivoren\, 
 schnuppernasigen Schwerenötern &amp\; verliebten Vierbeinern.\n\nViel Spass w
 ünscht Gratis-in-Berlin\n\nLink zum Tip: \nZu den Gratis-in-Berlin Angeboten: h
 ttp://www.gratis-in-berlin.de\n
DTSTART;VALUE=DATE:20260529
DTEND;VALUE=DATE:20260530
SUMMARY:?Berliner Tiere? & ?Flirtende Fauna? - Buchpräsentation des Kadmos Ve
 rlags 
END:VEVENT
END:VCALENDAR
