BEGIN:VCALENDAR
VERSION:2.0
PRODID:-//Gratis-in-Berlin//NONSGML kigkonsult.se iCalcreator 2.14//
METHOD:PUBLISH
X-WR-CALNAME:Gratis-in-Berlin Tip Kalender
X-WR-CALDESC:Erhalte Gratis-in-Berlin Tips in deinem Kalender
BEGIN:VEVENT
UID:20260420T182329UTC-0701uVTas5@Gratis-in-Berlin
DTSTAMP:20260420T182329Z
DESCRIPTION:Der Poetische Proberaum ist eine offene Lesebühne für Lyrik\, Prosa und T
 exte aller Art. Ein Raum zum Austauschen\, Ausprobieren und Zuhören\, auch Ni
 cht-Autor*innen sind willkommen.Für einen Lesespot meldet euch per Mail (poetis
 cherproberaum@gmail.com) oder Instagram (@poetischer.proberaum).\n\nViel S
 pass wünscht Gratis-in-Berlin\n\nLink zum Tip: https://www.gratis-in-berlin.de/
 23-lesungen-hoerspiele/2078501-poetischer-proberaum\nZu den Gratis-in-Berl
 in Angeboten: http://www.gratis-in-berlin.de\n
DTSTART;VALUE=DATE:20260714
DTEND;VALUE=DATE:20260715
SUMMARY:Poetischer Proberaum 
END:VEVENT
END:VCALENDAR
