BEGIN:VCALENDAR
VERSION:2.0
PRODID:-//Gratis-in-Berlin//NONSGML kigkonsult.se iCalcreator 2.14//
METHOD:PUBLISH
X-WR-CALNAME:Gratis-in-Berlin Tip Kalender
X-WR-CALDESC:Erhalte Gratis-in-Berlin Tips in deinem Kalender
BEGIN:VEVENT
UID:20260421T115019UTC-41070C3hu6@Gratis-in-Berlin
DTSTAMP:20260421T115019Z
DESCRIPTION:In der Familienbibliothek Else Ury könnt ihr monatlich in ?Gretche
 ns Märchenwelt? eintauchen! In jeder Ausgabe erwarten euch gleich mehrere Märc
 hen aus aller Welt ? und immer frei erzählt.Meist am ersten Dienstag eines M
 onats werden in einem bunten Reigen vorwiegend die Kinder- und Hausmärchen d
 er Brüder Grimm\, aber auch Märchen von Wilhelm Hauff\, Sven Grundtvig sowie Märche
 n aus aller Welt ? Hekaya ? frei erzählt. Je nach Gruppenzusammensetzung und
  Bekanntheitsgrad können die Märchen auch gespielt werden. Zwischen den erzählten
  Märchen gibt es Geschichten zum Mitmachen\, und es werden Bildgeschichten i
 m Kamishibai-Theater vorgeführt.MAI: Täuschungen im MärchenOft begegnen wir im Märche
 n Wesen\, die vorgeben etwas anderes zu sein. Manchmal geschieht es aus kühner 
 Berechnung ? gar wenn ein Wolf mit Kreide seine Stimme verändert oder seine 
 Pfote weiß färbt\, um sieben junge Geisslein zu täuschen. Eine junge Prinzessin
  zieht für ihren Vater in den Krieg. Sie verkleidet sich als Mann und verwirrt 
 dadurch ihren Gegner vollends. Hingegen stellt es ein kleiner Kater schlau
  an\, die Gunst des Königs zu gewinnen und verhilft somit seinem Herrn ? eine
 m armen Müllersohn ? zu Glück und Reichtum. Schließlich gibt es noch jene\, die ganz 
 unbeabsichtigt täuschen. Unbedarft marschiert einer in die weite Welt hinaus
  und wähnt sich stark ? schließlich hat er sieben Fliegen auf einen Streich e
 rledigt. Die Leute fürchten sich vor ihm\, denn sie mutmaßen\, dass es sieben Me
 nschen waren. ? Versprochen ist versprochen. Das muss eine wunderschöne Prinz
 essin schmerzhaft erfahren. Schließlich lässt sie ihrer Wut freien Lauf und e
 rlebt eine riesige Überraschung ...- Der Wolf und die sieben jungen Geissle
 in (Kinder- und Hausmärchen der Brüder Grimm)- Fanta-Ghiro (Gherardo Nerucci)- De
 r gestiefelte Kater (Kinder- und Hausmärchen der Brüder Grimm)- Das tapfere Schne
 iderlein (Kinder- und Hausmärchen der Brüder Grimm)- Der Froschkönig oder der eisern
 e Heinrich (Kinder- und Hausmärchen der Brüder Grimm)Dienstag\, 5. Mai 2026 // 16
  Uhr- Pop-Up-Else- für Kinder bis 8 Jahren und deren Begleitpersonen- ohne Anme
 ldung\n\nViel Spass wünscht Gratis-in-Berlin\n\nLink zum Tip: \nZu den Gratis-i
 n-Berlin Angeboten: http://www.gratis-in-berlin.de\n
DTSTART;VALUE=DATE:20260505
DTEND;VALUE=DATE:20260506
SUMMARY:'Gretchens Märchenwelt' im Mai
END:VEVENT
END:VCALENDAR
