BEGIN:VCALENDAR
VERSION:2.0
PRODID:-//Gratis-in-Berlin//NONSGML kigkonsult.se iCalcreator 2.14//
METHOD:PUBLISH
X-WR-CALNAME:Gratis-in-Berlin Tip Kalender
X-WR-CALDESC:Erhalte Gratis-in-Berlin Tips in deinem Kalender
BEGIN:VEVENT
UID:20260421T130910UTC-3991r756bV@Gratis-in-Berlin
DTSTAMP:20260421T130910Z
DESCRIPTION:?Anti Müller? ist kein Liebesroman. Es ist eine schonungslose Analys
 e verkrusteter Strukturen und ihrer sanften Vollstrecker\, unter deren lac
 kierten Nägeln noch immer der Schmutz des Patriarchats lauert. Mit großer poe
 tischer Präzision seziert Yade Önders Erzählerin die Mechanismen moderner Bezie
 hungen sowie eines vermeintlich feministischen Kulturbetriebs\, der nach w
 ie vor den Männern die Regie überlässt. Über die Bühnen. Und über die Körper.Yade Yasemin Önders
  Theaterstück Kartonage wurde 2017 zu den Autor*innentheatertagen Berlin eingel
 aden und am Wiener Burgtheater uraufgeführt. 2018 erhielt sie den Hauptpreis für Pro
 sa beim open mike. Ihr Debütroman ?Wir wissen\, wir könnten\, und fallen synchron?
  (2022\, KiWi) wurde mit dem Debütpreis der lit.COLOGNE und dem Nicolas-Born-De
 bütpreis ausgezeichnet und stand auf der Shortlist für den ZDFapekte-Literaturpreis.
  2023 erhielt sie das Werkstipendium des Deutschen Literaturfonds. 2024 er
 schien der Kollektivroman ?Wir kommen?\, dessen Mitautorin sie ist.Die Mod
 eration der Lesung übernimmt Georgina Fakunmoju.9. Mai 2026 // 19 Uhr- Eintritt
  frei- ohne Voranmeldung- Mittelpunktbibliothek Wilhelm Liebknecht / Namik
  Kemal\n\nViel Spass wünscht Gratis-in-Berlin\n\nLink zum Tip: \nZu den Gratis-
 in-Berlin Angeboten: http://www.gratis-in-berlin.de\n
DTSTART;VALUE=DATE:20260509
DTEND;VALUE=DATE:20260510
SUMMARY:Lange Buchnacht: Yade Yasemin Önder: 'Anti Müller'
END:VEVENT
END:VCALENDAR
