BEGIN:VCALENDAR
VERSION:2.0
PRODID:-//Gratis-in-Berlin//NONSGML kigkonsult.se iCalcreator 2.14//
METHOD:PUBLISH
X-WR-CALNAME:Gratis-in-Berlin Tip Kalender
X-WR-CALDESC:Erhalte Gratis-in-Berlin Tips in deinem Kalender
BEGIN:VEVENT
UID:20260421T142158UTC-9385RsaRDL@Gratis-in-Berlin
DTSTAMP:20260421T142158Z
DESCRIPTION:Basierend auf einer wahren Geschichte\, die unter die Haut geht
 \, stellen Tobi Dahmen und Akram Al Saud ihr gemeinsames Werk Al-Fazia? vo
 r: Eine eindringliche Erzählung\, die die Realität des Assad-Regimes greifbar 
 macht. Moderiert wird der Abend von Comicfachmann und Übersetzer Matthias W
 ieland.Zum Buch:Die Graphic Novel erzählt die erschütternde Lebensgeschichte von 
 Akram Al Saud\, einem jungen Architekturstudenten\, der mit 19 Jahren nach
  Aleppo zog und bereits 2010 erstmals zu Unrecht verhaftet wurde. Nach neu
 n Monaten in grausamer Haft schloss er sich der Revolution gegen das Assad
 -Regime an. Trotz weiterer Festnahmen bewahrte er seine Hoffnung auf ein f
 reies Syrien und musste 2016 schließlich nach Europa fliehen. Auf Grundlage
  persönlicher Gespräche schildert Tobi Dahmen in intensiven Bildern und das Leb
 en eines Mannes\, der trotz des Terrors den Mut zum Widerstand fand.Gleich
 zeitig zeigt der Comic die besondere Zusammenarbeit zwischen Al Saud und D
 ahmen und setzt ein Beispiel dafür\, wie das Unsagbare in Kunst Ausdruck finden
  kann. Das Buch entstand im Rahmen des internationalen Projekts ?Survior-C
 entred Visual Narratives? der Universität Victoria in Kanada und gefördert durc
 h den Social Sciences and Humanities Research Council of Canada (SSHRC). I
 n einem umfassenden Anhang werden historische Hintergründe und Zusammenarbeit r
 und um das Projekt ausführlich beleuchtet.Herausgegeben von U?ur Ümit Üngör und Char
 lotte Schallié.Tobi Dahmen\, geboren 1971 in Frankfurt/Main\, wuchs in Wesel
  am Rhein auf und studierte Visuelle Kommunikation in Düsseldorf. Sein Diplom m
 achte er mit dem illustrierten Buch ?Poetry And All That Jazz? zu einem Te
 xt von Jack Kerouac. Seitdem arbeitet er als Comiczeichner und Illustrator
  für die unterschiedlichsten Auftraggeber*innen. Tobi Dahmen wurde bereits mehr
 fach für seine Arbeiten ausgezeichnet\, u.a. mit dem ICOM-Preis für den besten Kurzc
 omic und dem Red Dot Award. Seine zuerst als Webcomic veröffentlichte Comicge
 schichte »Fahrradmod« erschien 2015 in Buchform bei Carlsen. 2024 veröffentlich
 t der Zeichner\, der mittlerweile im niederländischen Utrecht lebt\, seine G
 raphic Novel »Columbusstraße« in der er die Geschichten seiner Familie während 
 und nach dem zweiten Weltkrieg aufarbeitet.27. Mai 2026 // 20 Uhr- Mittelp
 unktbibliothek Wilhelm Liebknecht / Namik Kemal- Eintritt frei- Voranmeldu
 ng unter diesem Link (https://pretix.eu/bibxhain/al-fazia/) oder telefonis
 ch unter (030) 5058 5225\n\nViel Spass wünscht Gratis-in-Berlin\n\nLink zum Tip
 : \nZu den Gratis-in-Berlin Angeboten: http://www.gratis-in-berlin.de\n
DTSTART;VALUE=DATE:20260527
DTEND;VALUE=DATE:20260528
SUMMARY:Comiclesung: ?Al-Fazia'?von Tobi Dahmen und Akram Al Saud
END:VEVENT
END:VCALENDAR
