BEGIN:VCALENDAR
VERSION:2.0
PRODID:-//Gratis-in-Berlin//NONSGML kigkonsult.se iCalcreator 2.14//
METHOD:PUBLISH
X-WR-CALNAME:Gratis-in-Berlin Tip Kalender
X-WR-CALDESC:Erhalte Gratis-in-Berlin Tips in deinem Kalender
BEGIN:VEVENT
UID:20260421T151507UTC-6984UVRg1G@Gratis-in-Berlin
DTSTAMP:20260421T151507Z
DESCRIPTION:Fünf Illustratorinnen erzählen 5 Lebensgeschichten aus der Stadt Siege
 n und dem Umland\, die sich zur Zeit des Nationalsozialismus in Südwestfalen er
 eigneten.Im Zentrum des Buchs stehen die Schicksale von Betty Hochmann\, I
 nge Frank\, Otto Päulgen\, Zina sowie Johanna und Simon Grünewald.Das Buch eröffnet 
 neue Vermittlungswege und ermöglicht insbesondere jungen Menschen einen emoti
 onalen Zugang zur Geschichte.\n\nViel Spass wünscht Gratis-in-Berlin\n\nLink zu
 m Tip: \nZu den Gratis-in-Berlin Angeboten: http://www.gratis-in-berlin.de
 \n
DTSTART;VALUE=DATE:20260625
DTEND;VALUE=DATE:20260626
SUMMARY:'Bin Mensch nicht auch ich?' | Buchpräsentation
END:VEVENT
END:VCALENDAR
