BEGIN:VCALENDAR
VERSION:2.0
PRODID:-//Gratis-in-Berlin//NONSGML kigkonsult.se iCalcreator 2.14//
METHOD:PUBLISH
X-WR-CALNAME:Gratis-in-Berlin Tip Kalender
X-WR-CALDESC:Erhalte Gratis-in-Berlin Tips in deinem Kalender
BEGIN:VEVENT
UID:20260422T114104UTC-74050sbeJV@Gratis-in-Berlin
DTSTAMP:20260422T114104Z
DESCRIPTION:Bibliotheken sind oft der erste Ort\, an dem Menschen Bücher und Med
 ien entdecken ? insbesondere\, da ihr Angebot so vielseitig und niedrigsch
 wellig zugänglich ist. In der Veranstaltungsreihe ?Vorgemerkt.? sind Literat
 urschaffende eingeladen\, aus dem Bestand der ZLB eine persönliche Auswahl an
  Medien vorzustellen. Dabei kann es sich um Romane\, Sachbücher\, Lyrik\, Comic
 s\, Theaterstücke\, Kunst\, Filme\, Musik-CDs oder sogar Spiele handeln. Alles\
 , was die Schreibenden für ihre aktuelle Arbeit\, ihr neuestes Buch oder ganz p
 ersönlich als inspirierend und wichtig empfinden\, wird zum Ausgangspunkt für ein 
 Gespräch mit Moderator*in Luca Mael Milsch.Sharon Dodua Otoo stellt ihre Lie
 blingsfavoriten aus der ZLB vor.\n\nViel Spass wünscht Gratis-in-Berlin\n\nLink
  zum Tip: https://www.gratis-in-berlin.de/component/flexicontent/23-lesung
 en-hoerspiele/2078627-vorgemerkt\nZu den Gratis-in-Berlin Angeboten: http:
 //www.gratis-in-berlin.de\n
DTSTART;VALUE=DATE:20260616
DTEND;VALUE=DATE:20260617
SUMMARY:Vorgemerkt.
END:VEVENT
END:VCALENDAR
