BEGIN:VCALENDAR
VERSION:2.0
PRODID:-//Gratis-in-Berlin//NONSGML kigkonsult.se iCalcreator 2.14//
METHOD:PUBLISH
X-WR-CALNAME:Gratis-in-Berlin Tip Kalender
X-WR-CALDESC:Erhalte Gratis-in-Berlin Tips in deinem Kalender
BEGIN:VEVENT
UID:20260422T144446UTC-3800f0rekh@Gratis-in-Berlin
DTSTAMP:20260422T144446Z
DESCRIPTION:Das große Finale einer Woche Lotta-Leben in der Stadtbibliothek 
 Berlin-Mitte ist die Lesung mit Alice Pantermüller in der Philipp-Schaeffer-Bib
 liothek. Tauche mit der Autorin und uns gemeinsam in die chaotisch-bunte W
 elt der beliebten Comicromanfigur ein. Alice Pantermüller stellt euch das neust
 e Abenteuer von Lotta 'Muh mir das Lied von der Kuh' vor. Wie immer mit wu
 nderbaren Illustrationen von Daniela Kohl. Wenn ihr herausfinden wollt was
  es mit der Kuh auf sich hat\, dann kommt zur Lesung vorbei. Wir freuen un
 s auf euch!Die Plätze sind begrenzt. Kostenlose Anmeldung ausschließlich über: htt
 ps://pretix.eu/Philipp-Schaeffer-Bibliothek/pantermueller/Bildrechte:&nbsp
 \;© Arena Verlag\,&nbsp\;© Alice Pantermüller\n\nViel Spass wünscht Gratis-in-Berlin\n
 \nLink zum Tip: \nZu den Gratis-in-Berlin Angeboten: http://www.gratis-in-
 berlin.de\n
DTSTART;VALUE=DATE:20260508
DTEND;VALUE=DATE:20260509
SUMMARY:Lesung mit Alice Pantermüller 
END:VEVENT
END:VCALENDAR
