BEGIN:VCALENDAR
VERSION:2.0
PRODID:-//Gratis-in-Berlin//NONSGML kigkonsult.se iCalcreator 2.14//
METHOD:PUBLISH
X-WR-CALNAME:Gratis-in-Berlin Tip Kalender
X-WR-CALDESC:Erhalte Gratis-in-Berlin Tips in deinem Kalender
BEGIN:VEVENT
UID:20260423T143620UTC-1992Dg17VL@Gratis-in-Berlin
DTSTAMP:20260423T143620Z
DESCRIPTION:Panke.info begeht am Sonntag 21.6. ab 12 Uhr die 'ersten Lebens
 stationen des bekanntesten Sohnes der Panke' in einer kostenlosen Fußtour m
 it Gregor Maier.  Anmeldung wird empfohlen per E-Mail an martin@panke.info
   Infos und weitere kostenlose Touren siehe Website.\n\nViel Spass wünscht Grat
 is-in-Berlin\n\nLink zum Tip: \nZu den Gratis-in-Berlin Angeboten: http://
 www.gratis-in-berlin.de\n
DTSTART;VALUE=DATE:20090621
DTEND;VALUE=DATE:20090622
SUMMARY:Harald Juhnke Tour (Barfuß oder Lackschuh?) 
END:VEVENT
END:VCALENDAR
