BEGIN:VCALENDAR
VERSION:2.0
PRODID:-//Gratis-in-Berlin//NONSGML kigkonsult.se iCalcreator 2.14//
METHOD:PUBLISH
X-WR-CALNAME:Gratis-in-Berlin Tip Kalender
X-WR-CALDESC:Erhalte Gratis-in-Berlin Tips in deinem Kalender
BEGIN:VEVENT
UID:20260423T131529UTC-6294a5bT88@Gratis-in-Berlin
DTSTAMP:20260423T131529Z
DESCRIPTION:Der deutsche Bundestag\, unser aller Parlament\, öffnet seine Türen für alle
 ! Neugierige können&nbsp\;9 bis 19 Uhr (letzter Einlass 18 Uhr) im Reichstags
 gebäude\, Paul-Lobe-Haus und im Marie-Elisabeth-Lüders-Haus hinter die Kulissen b
 licken.&nbsp\;Programm u.a.:13.45 Uhr Publikumsgespräch mit Bundestagspräsiden
 tin Julia Klöckner. Außerdem laden die Bundestagsvizepräsidentinnen und -präsident
 en Andrea Lindholz\, Josephine Ortleb (SPD)\, Omid Nouripour (Bündnis 90/Die Gr
 ünen) und Bodo Ramelow (Die Linke) zu Kurzvorträgen.Mehr Begegung mit Poltiik(ern
 ) sogar auf höchster Ebene dann am Wochenende 20/21. Juni (also früher als sonst)\
 , da gibt es dann die&nbsp\;Einladung zum Staatsbesuch 2026\, Tag der offe
 nen Ministerien und Tag der offenen Tür in Bundeskanzleramt (Fettschrift = klic
 kbarer Link zu Infos)\n\nViel Spass wünscht Gratis-in-Berlin\n\nLink zum Tip: 
 \nZu den Gratis-in-Berlin Angeboten: http://www.gratis-in-berlin.de\n
DTSTART;VALUE=DATE:20260503
DTEND;VALUE=DATE:20260504
SUMMARY:Tag der Ein- und Ausblicke - Tag der offenen Tür im Bundestag
END:VEVENT
END:VCALENDAR
