BEGIN:VCALENDAR
VERSION:2.0
PRODID:-//Gratis-in-Berlin//NONSGML kigkonsult.se iCalcreator 2.14//
METHOD:PUBLISH
X-WR-CALNAME:Gratis-in-Berlin Tip Kalender
X-WR-CALDESC:Erhalte Gratis-in-Berlin Tips in deinem Kalender
BEGIN:VEVENT
UID:20260422T150811UTC-023472beU9@Gratis-in-Berlin
DTSTAMP:20260422T150811Z
DESCRIPTION:Glauben und Zweifeln. Religion und Gesellschaft.2017 wird das 5
 00. Reformationsjubiläum gefeiert ? auch in Berlin beim Deutschen Evangelisc
 hen Kirchentag. Gemeinsam wird dort gefragt\, was uns die Reformation von 
 damals noch zu sagen hat.Welche Haltung haben wir zum Glauben? Welche Roll
 e spielen Glaube und Religion für das Zusammenleben in unserer Gesellschaft\, b
 esonders in der multikulturellen Einwwanderungsgesellschaft Berlins?Mit de
 m vielseitigen Medien- und Informationsangebot im Themenraum möchten wir Sie 
 anregen\, eigene Glaubensmaximen zu hinterfragen\, die eigene Haltung zum 
 Thema Religion zu schärfen und diese in aktuellen\, kontroversen Debatten ei
 nzubringen.Auch bei einem der Programmangebote des Evangelischen Kirchenta
 gs in Berlin oder in den Veranstaltungen unserer begleitenden Themenwoche 
 vom 22. - 27.05. können Sie sich weiter informieren und mit uns debattieren.Z
 entral- und Landesbibliothek Berlin (ZLB) | Amerika-Gedenkbibliothek | Sal
 on | Blücherplatz 1 | 10961 Berlin\n\nViel Spass wünscht Gratis-in-Berlin\n\nLink zu
 m Tip: \nZu den Gratis-in-Berlin Angeboten: http://www.gratis-in-berlin.de
 \n
DTSTART;VALUE=DATE:20170425
DTEND;VALUE=DATE:20170602
SUMMARY:Themenraum: Glauben und Zweifeln. Religion und Gesellschaft.
END:VEVENT
END:VCALENDAR
