BEGIN:VCALENDAR
VERSION:2.0
PRODID:-//Gratis-in-Berlin//NONSGML kigkonsult.se iCalcreator 2.14//
METHOD:PUBLISH
X-WR-CALNAME:Gratis-in-Berlin Tip Kalender
X-WR-CALDESC:Erhalte Gratis-in-Berlin Tips in deinem Kalender
BEGIN:VEVENT
UID:20260422T150659UTC-988565JlU3@Gratis-in-Berlin
DTSTAMP:20260422T150659Z
DESCRIPTION:Seit den Urzeiten des Menschen begleiten uns Pflanzen als Leben
 smittel\, als Heilpflanzen\, zum Genuss\, als Nutzpflanzen oder sie sind g
 iftig. Eine Gruppe von Pflanzen besitzt darüber hinaus außergewöhnliche\, nämlich psy
 choaktive Fähigkeiten\, d.h. sie können unsere Wahrnehmungen im Bereich von Ges
 icht\, Gehör\, Geruch\, Geschmack\, auch den Tastsinn und unseren geistig- em
 otionalen Zustand verändern. Als Drogen werden sie geschätzt\, gar als Pflanze
 n der Götter bezeichnet oder verpönt\, reglementiert und verboten. Überall haben 
 diese Pflanzen ihre Spuren hinterlassen: im Alltag\, in der Kultur\, in de
 r Religion\, in der Mythologie oder in der Politik. Am faszinierendsten für mic
 h ist aber ihr Potential zum Heilen.Ich führe am Männertag durch die Welt der Dro
 genpflanzen im Botanischen Garten Dahlem. Wir besuchen dazu den Heilpflanz
 engarten und das Nutzpflanzenhaus. Die Teilnehmer erhalten eine mehrseitig
 e Zusammenfassung\, der von mir zusammengetragenen Informationen (Unkosten
 beitrag 5\,00 Euro).Wir treffen uns am Eingang Königin- Luise- Strasse (Bus X
 83). Bitte melden sie sich an unter 0176 34405591 ! Danke......Heilpraktik
 er/ Diplomgeograph Dietmar Schmidt\n\nViel Spass wünscht Gratis-in-Berlin\n\nLi
 nk zum Tip: \nZu den Gratis-in-Berlin Angeboten: http://www.gratis-in-berl
 in.de\n
DTSTART;VALUE=DATE:20170525
DTEND;VALUE=DATE:20170526
SUMMARY:NATUR - GESELLSCHAFT - HEILEN 2: Drogenpflanzen und ihre Welt im Bo
 tanischen Garten Dahlem
END:VEVENT
END:VCALENDAR
