BEGIN:VCALENDAR
VERSION:2.0
PRODID:-//Gratis-in-Berlin//NONSGML kigkonsult.se iCalcreator 2.14//
METHOD:PUBLISH
X-WR-CALNAME:Gratis-in-Berlin Tip Kalender
X-WR-CALDESC:Erhalte Gratis-in-Berlin Tips in deinem Kalender
BEGIN:VEVENT
UID:20260422T145857UTC-5976ZI9nuW@Gratis-in-Berlin
DTSTAMP:20260422T145857Z
DESCRIPTION:Erlebe das größte Weltgeschehen: Gott und Christus schweigen nicht
 \, sie sprechen zur Menschheit! Donnerstag\, 25. Mai\, 19:30 Uhr\, Hörbuch: ?
 Reinkarnationen ? Wer bist Du? Woher kommst Du?? Wo ist unsere Heimat? Ode
 r sind wir nur auf der Durchreise? Die Wiedergeburt war im frühen Christentum n
 och lebendiges Menschheitswissen. Ort: Bio-Hotel essentis\, s. u.\, Raum: 
 Wintergarten\, 19:00 Uhr veganes Buffet s. u. Freitag\, 26. Mai 2017\, 19:
 30 Uhr\, Offenbarung von Gott: Ich Bin\, und du bist in mir ? urewig\, und
  du kehrst zurück durch Christus: Ich Bin der redende Gott tief in deiner Seele
  und der redende Gott in allen Sonnen und Gestirnen\, in jeder Pflanze\, i
 n jedem Stein\, in jedem Tier... Was bedeutet für euch das Kreuz? Das Kreuz ohn
 e den Korpus ist das Kreuz der Erlösung\, das Kreuz der Auferstehung. Wie lan
 ge wollt ihr noch in Trugbildern leben. Samstag\, 27. Mai 2017\, 19:30 Uhr
 \, Film: ?Die gefälschte Bibel ? Das wahre Wort Gottes oder Mischwerk der Pr
 iesterkaste? Glaubt man der Bibel\, dann hat Gott zur Zeit des Propheten M
 ose Völkermorde\, Todesstrafe und Tieropfer befohlen. Gleichzeitig gab Gott d
 urch Mose jedoch das Gebot: ?Du sollst nicht töten?. ... Sonntag\, 28. Mai 20
 17\, 19:30 Uhr\, Offenbarung von Christus: ?Botschaft aus dem All ? Alle\,
  die guten Willens sind\, streben nach der Inneren Religion.? Eines der gr
 ößten Geschenke des Gottesgeistes an uns Menschen ist das Göttliche Prophetische
  Heilen. ?Erkennet die Zeichen der Zeit\, und wachet auf?\, so mahnt uns d
 er Christus-Gottes-Geist durch Gabriele\, die Er Seine Prophetin und Botsc
 hafterin nennt. Die unteren drei Veranstaltungen sind im Raum Sonnenschein
 . Bereits um 19:00 Uhr gibt es ein veganes Buffet (12\,50 ?)\, wer möchte\, O
 rt: Bio-Hotel essentis in der Weiskopffstr. 16/17\, 12459 Berlin?Köpenick. Di
 e Tram ? Haltestelle: Parkstraße\, Linien 27\, 60\, 67\; Eintritt frei Du b
 ist herzlich eingeladen!Hergen\, Tel.: 030 8525322 post@hergen.info\, www.
 hergen.info Weitere Informationen: radio-universelles-leben.de\, sophiatv.
 de\, radio-santec.com\n\nViel Spass wünscht Gratis-in-Berlin\n\nLink zum Tip: 
 \nZu den Gratis-in-Berlin Angeboten: http://www.gratis-in-berlin.de\n
DTSTART;VALUE=DATE:20170525
DTEND;VALUE=DATE:20170529
SUMMARY:'Reinkarnation': Woher kommen wir - Wohin gehen wir
END:VEVENT
END:VCALENDAR
