BEGIN:VCALENDAR
VERSION:2.0
PRODID:-//Gratis-in-Berlin//NONSGML kigkonsult.se iCalcreator 2.14//
METHOD:PUBLISH
X-WR-CALNAME:Gratis-in-Berlin Tip Kalender
X-WR-CALDESC:Erhalte Gratis-in-Berlin Tips in deinem Kalender
BEGIN:VEVENT
UID:20260419T132151UTC-7471NJnBHJ@Gratis-in-Berlin
DTSTAMP:20260419T132151Z
DESCRIPTION:PODIUMSDISKUSSIONDer neue Wehrdienst der Bundeswehr ist eine An
 twort auf die aktuellen sicherheitspolitischen Herausforderungen (Ukrainek
 rieg\, NATO\, veränderte Weltordnung)\, stößt jedoch auch auf Kritik. Unklar bl
 eibt\, ob das neue Modell den tatsächlichen Personalmangel in der Truppe wir
 ksam entgegenwirken kann oder vor allem Symbolpolitik betrieben wird. Das 
 Prinzip der Freiwilligkeit steht im Spannungsfeld mit Überlegungen zu verpf
 lichtenden Elementen und wirft Fragen nach sozialer Gerechtigkeit auf. Kri
 tisch diskutiert werden auch Eingriffe in die Lebensplanung junger Mensche
 n sowie mögliche Auswirkungen auf Bildung und Arbeitsmarkt.Zweifel bestehen z
 udem\, ob die Bundeswehr strukturell und materiell ausreichend vorbereitet
  ist\, um zusätzliche Dienstleistende sinnvoll auszubilden. Der Wehrdienst b
 erührt grundlegende Fragen von Verantwortung\, möglichem Zwang und dem Verhältnis zw
 ischen Bürger:innen und Staat. Die Veranstaltung nimmt diese Kritikpunkte auf u
 nd lädt zu einer offenen\, differenzierten Auseinandersetzung ein.Auf dem Po
 dium:Mike Siebert - Jugendoffizier Berlin bei der BundeswehrAnton - Vertre
 ter des Kinder- und Jugendparlaments Tempelhof-SchönebergModeration:Martin Bi
 eber - Referent für Bundeswehr und Gesellschaft bei der Konrad-Adenauer-Stiftun
 gUm Anmeldung wird gebeten unter:stabi-bzb@ba-ts.berlin.de(030) 90277-6163
 oder direkt an der Theke.Wir freuen uns auf Sie!\n\nViel Spass wünscht Gratis-i
 n-Berlin\n\nLink zum Tip: \nZu den Gratis-in-Berlin Angeboten: http://www.
 gratis-in-berlin.de\n
DTSTART;VALUE=DATE:20260219
DTEND;VALUE=DATE:20260220
SUMMARY:Starke Seiten\, starke Worte: 'Der neue Wehrdienst im Fokus'
END:VEVENT
END:VCALENDAR
