BEGIN:VCALENDAR
VERSION:2.0
PRODID:-//Gratis-in-Berlin//NONSGML kigkonsult.se iCalcreator 2.14//
METHOD:PUBLISH
X-WR-CALNAME:Gratis-in-Berlin Tip Kalender
X-WR-CALDESC:Erhalte Gratis-in-Berlin Tips in deinem Kalender
BEGIN:VEVENT
UID:20260419T201646UTC-8876HT6HVh@Gratis-in-Berlin
DTSTAMP:20260419T201646Z
DESCRIPTION:Der 1\,5 Grad Sonderbericht des Weltklimarates sagt aus:Die glo
 bale Erderwärmung auf maximal 1\,5 Grad zu begrenzen ist (noch) möglich. Die We
 lt ist auf dem Weg.Doch wie schnell geht Deutschland\, einst international
 er Schrittmacher und Vorreiter der Energiewende\, voran?Deutschland ist ei
 ner der großen Verursacher von Treibhausgasen (u.a. durch Industrialisierun
 g und Automobilität\, auch durch hohe Konsumgüterimporte). Die Zukunftsweichen für die
  Klimastabilität müssen jetzt gestellt werden\, um unsere Produktionsweise und un
 seren Lebensstil in Richtung Klimaneutralität bringen\, wie im Klimaübereinkommen
  von Paris beschlossen. Und das sehr schnell!- Wie kann die Transformation
  in der Industrienation Deutschland zeitnah gelingen?- Wie steht es um Pro
 gnosen und Pläne für die verschiedenen Sektoren unseres Lebens?- Wieviel Wind\, S
 olar und Speicher brauchen wir zusätzlich?- Wie bewegen und fahren wir klima
 neutral\, wie halten unsere Gebäude warm?- Wie unterstützen wir die Politik\, gew
 innen wir Bevölkerung und andere relevante Akteur*innen\, z.B. die Wirtschaft
  für diese Pläne?Wir werden einen Leitfaden durch die Pläne und Prognosen für die Zukunf
 t legen. Dieser Workshop knüpft an den Workshop ABC des Klimaschutzes von Ende 
 August an und legt einen Fokus auf die Beschleunigung der Dynamik hin zur 
 Kohlendioxid-Neutralität und - entzug.Gerne sind auch neue Teilnehmer*innen 
 willkommen!Dr. Gregor Hagedorn arbeitet als Wissenschaftler in Berlin zu F
 ragen vonEnergiepolitik\, Biodiversität und Nachhaltigkeit. Er ist Initiator
  von Scientists for Future im Februar dieses Jahres.Christoph Meyer arbeit
 et als Moderator und Dozent. Er beschäftigt sich schwerpunktmäßig mit Klimakri
 se\, Finanzen und Bürger*innen-Lobbyarbeit.Anmeldung erbeten.Diese Veranstaltun
 g wird mit Mitteln der Stiftung Deutsche Klassenlotterie Berlin unterstützt.\n
 \nViel Spass wünscht Gratis-in-Berlin\n\nLink zum Tip: \nZu den Gratis-in-Berli
 n Angeboten: http://www.gratis-in-berlin.de\n
DTSTART;VALUE=DATE:20190916
DTEND;VALUE=DATE:20190917
SUMMARY:Jetzt aber dalli! ABC Klimaschutz&Energiewende in allen Sektoren de
 s Lebens
END:VEVENT
END:VCALENDAR
