BEGIN:VCALENDAR
VERSION:2.0
PRODID:-//Gratis-in-Berlin//NONSGML kigkonsult.se iCalcreator 2.14//
METHOD:PUBLISH
X-WR-CALNAME:Gratis-in-Berlin Tip Kalender
X-WR-CALDESC:Erhalte Gratis-in-Berlin Tips in deinem Kalender
BEGIN:VEVENT
UID:20260420T080604UTC-4448NBBRwp@Gratis-in-Berlin
DTSTAMP:20260420T080604Z
DESCRIPTION:Hier sind Sie auf dem richtigen Holzweg! Die offene Holzwerksta
 tt des BAUFACHFRAU Berlin e. V. bietet kostenfreie Angebote rund um die Wi
 eder- und Weiterverarbeitung von Gebrauchthölzern sowie holzhandwerkliche Tip
 ps für Ihr nächstes DIY-Projekt. Di &amp\; Mi\, 15?19 Uhr im Haus der Materialisi
 erung.Weitere Infos unter: https://hausdermaterialisierung.org Das HdM ist
  Teil der Initiative Re-Use Berlin und wird u.a. gefördert durch die SenUMVK.
 \n\nViel Spass wünscht Gratis-in-Berlin\n\nLink zum Tip: https://www.gratis-in-
 berlin.de/kalender/item/2053427-offene-holzwerkstatt\nZu den Gratis-in-Ber
 lin Angeboten: http://www.gratis-in-berlin.de\n
DTSTART;VALUE=DATE:20231108
DTEND;VALUE=DATE:20231109
SUMMARY:Offene Holzwerkstatt
END:VEVENT
END:VCALENDAR
