BEGIN:VCALENDAR
VERSION:2.0
PRODID:-//Gratis-in-Berlin//NONSGML kigkonsult.se iCalcreator 2.14//
METHOD:PUBLISH
X-WR-CALNAME:Gratis-in-Berlin Tip Kalender
X-WR-CALDESC:Erhalte Gratis-in-Berlin Tips in deinem Kalender
BEGIN:VEVENT
UID:20260423T163143UTC-5241PiU6sv@Gratis-in-Berlin
DTSTAMP:20260423T163143Z
DESCRIPTION:Zum 200. Todestag von E.T.A. Hoffmann nehmen sich Jörg Petzel\, Pa
 ul Alfred Kleinert und Gerald Sommer Hoffmans literarische Figur 'Klein Za
 ches\, genannt Zinnober' vor.Zugang zum Kleiner Säulensaal über die Breite Straße 
 36.Für barrierefreien Zugang kontaktieren Sie bis zum 29.07.2022 marketing@zlb.
 deIn Kooperation mit dem Internationalen Franz Fühmann FreundeskreisFür barrierefrei
 en Zugang kontaktieren Sie bis zum 29.07.2022 marketing@zlb.deEintritt fre
 i!Bild © Steffen Faust\n\nViel Spass wünscht Gratis-in-Berlin\n\nLink zum Tip: 
 \nZu den Gratis-in-Berlin Angeboten: http://www.gratis-in-berlin.de\n
DTSTART;VALUE=DATE:20220803
DTEND;VALUE=DATE:20220804
SUMMARY:'Zapp und Zaches' | Die literarische Figur E.T.A. Hoffmanns
END:VEVENT
END:VCALENDAR
