BEGIN:VCALENDAR
VERSION:2.0
PRODID:-//Gratis-in-Berlin//NONSGML kigkonsult.se iCalcreator 2.14//
METHOD:PUBLISH
X-WR-CALNAME:Gratis-in-Berlin Tip Kalender
X-WR-CALDESC:Erhalte Gratis-in-Berlin Tips in deinem Kalender
BEGIN:VEVENT
UID:20260422T130250UTC-0500SJVS7V@Gratis-in-Berlin
DTSTAMP:20260422T130250Z
DESCRIPTION:Wie wird die Demokratie der Zukunft aussehen? Bei uns im Futuri
 um Lab habt ihr die Gelegenheit\, euch mit den Herausforderungen und Chanc
 en auseinanderzusetzen\, die vor uns liegen.Wie wird die Demokratie der Zu
 kunft aussehen? Bei uns im Futurium Lab habt ihr die Gelegenheit\, euch mi
 t den Herausforderungen und Chancen auseinanderzusetzen\, die vor uns lieg
 en.In diesem Format könnt ihr eure eigenen Ideen undVorstellungen für wünschenswer
 te Zukünfte entwickeln. Was ist eure Forderung andie Demokratie von morgen? Mit
  dem Lasercutter erstellt ihr Stencils\,Sprühschablonen\, um eure Forderung in 
 die reale Welt zu bringen. In einemfiktiven Szenario geht es um Demokratie
  und KI-Anwendungen mitGesichtserkennung. Um die eigene Identität vor dieser
  Beobachtung undGesichtserkennung zu schützen\, könnt ihr Anti-Gesichtserkennungsm
 askengestalten und sie mit verschiedenen Mustern tarnen.Unsere Mentor*inne
 n stehen euch bei der Umsetzung eurer Ideenzur Seite und zeigen euch\, wie
  der Lasercutter funktioniert. Dazu gibt eshilfreiche Lernmaterialien\, di
 e euch unterstützen werden.Das Drop-In-Format ist offen gestaltet und untersche
 idet sich von klassischen Workshops. Wir planen ein\, dass ihr ca. 20 Minu
 ten im Lab verbringt\, um erste Berührungspunkte mit der Technologie und dem Zu
 kunftsthema zu haben. Sollte es besonders voll sein\, kann es vorkommen\, 
 dass nicht alle Teilnehmenden alle Stationen ausprobieren können. Seid also f
 lexibel und nutzt die Gelegenheit\, euch auf die spannenden Themen einzula
 ssen!INFORMATIONEN-&gt\;Veranstaltungsort: Workshop-Bereich des Labs-&gt\;
 Eintritt: kostenfrei-&gt\;Veranstaltungssprache: Deutsch. Unsere Mentor*in
 nen sprechen Deutsch und Englisch. Sie unterstützen euch gern bei den Experimen
 ten und Workshop-Angeboten.-&gt\;Für Familien und Kinder (ab 8 Jahren) -&gt\;Es
  finden vier Termine dieser Reihe statt: 20.04.2025\, 10.05.2025\, 11.05.2
 025\, 22.2025 ZUGÄNGLICHKEITZukunft ist für alle da! Das Futurium möchte für alle Mensch
 en zugänglich sein. Wenn es eurerseits weitere Zugangsbedürfnisse gibt\, teilt si
 e uns gern mit. Wir versuchen\, sie zu erfüllen: info@futurium.deHier findet ih
 r alle Informationen zur Barrierefreiheit.TICKETSFür diese Veranstaltung benötigt 
 ihr kein Ticket. Der Workshop findet im Drop-In-Format statt\, d.h. ihr könnt
  einfach vorbeikommen.\n\nViel Spass wünscht Gratis-in-Berlin\n\nLink zum Tip: 
 \nZu den Gratis-in-Berlin Angeboten: http://www.gratis-in-berlin.de\n
DTSTART;VALUE=DATE:20250622
DTEND;VALUE=DATE:20250623
SUMMARY:Family Open Lab: Zukunftsideen für die Demokratie
END:VEVENT
END:VCALENDAR
