BEGIN:VCALENDAR
VERSION:2.0
PRODID:-//Gratis-in-Berlin//NONSGML kigkonsult.se iCalcreator 2.14//
METHOD:PUBLISH
X-WR-CALNAME:Gratis-in-Berlin Tip Kalender
X-WR-CALDESC:Erhalte Gratis-in-Berlin Tips in deinem Kalender
BEGIN:VEVENT
UID:20260420T080630UTC-5185Uu4XgV@Gratis-in-Berlin
DTSTAMP:20260420T080630Z
DESCRIPTION:Der Islam hat\, wie viele andere Religionen\, die Idee eines Ru
 heortes für die Gläubigen und die Idee eines ewigen Feuers. Doch wie sehen die Vo
 rstellungen von Paradies und Hölle aus und wie wandeln sich die koranischen B
 eschreibungen im Laufe der Zeit etwa von der Beschreibung der Paradies-Jun
 gfrauen hin zu abstrakteren Vorstellungen? Prof. Dr. Mira Sievers\, Theolo
 gin und Juniorprofessorin für Islamische Theologie\, gibt Einblicke.Über die Rei
 he: Was passiert im Fegefeuer? Warten im Paradies Jungfrauen auf die Tugen
 dhaften? Wie sieht der Himmel für Frauen aus? Ist es in der Hölle heiß? Was macht G
 ott im Jenseits? Wie können wir heute glaubwürdig vom Jenseits sprechen? Braucht G
 laube überhaupt Jenseitsvorstellungen?Eine Kooperation des KDFB Berlin und der 
 Guardini Stiftung.Livestream per Zoom: Den Link finden Sie unter www.guard
 ini.de.Anmeldung unter Tel. 030-321 50 21 oder per E-Mail an info@kdfb-ber
 lin.de\n\nViel Spass wünscht Gratis-in-Berlin\n\nLink zum Tip: https://www.grat
 is-in-berlin.de/kalender/item/2061445-vortrag-jenseitsvorstellungen-im-isl
 am\nZu den Gratis-in-Berlin Angeboten: http://www.gratis-in-berlin.de\n
DTSTART;VALUE=DATE:20231128
DTEND;VALUE=DATE:20231129
SUMMARY:Vortrag | Jenseitsvorstellungen im Islam
END:VEVENT
END:VCALENDAR
