BEGIN:VCALENDAR
VERSION:2.0
PRODID:-//Gratis-in-Berlin//NONSGML kigkonsult.se iCalcreator 2.14//
METHOD:PUBLISH
X-WR-CALNAME:Gratis-in-Berlin Tip Kalender
X-WR-CALDESC:Erhalte Gratis-in-Berlin Tips in deinem Kalender
BEGIN:VEVENT
UID:20260425T164132UTC-1247vVVfN2@Gratis-in-Berlin
DTSTAMP:20260425T164132Z
DESCRIPTION:Fast 40 Jahre nach der legendären PorNo-Debatte der feministische
 n Zeitschrift Emma im Westen Deutschlands ist die Pornographie nicht nur i
 n der Mitte der Gesellschaft angekommen\, sondern wird mehr und mehr zu ei
 nem akzeptierten Kulturgut\, welches omnipräsent in unserer Gesellschaft zu 
 finden ist. Aus der einstigen Schmuddel- und Bückware ist ein anerkanntes Mediu
 m erwachsen. Was macht diese Veränderung aber mit uns und unserer Gesellscha
 ft? Hat oder bringt es die Befreiung und ungehemmte Sexualaufklärung\, von d
 er manche 1968er einst träumten\, oder führt es zu einer neuen Formierung\, die n
 ur in einem neuen Gewand der Regulierung von Sexualität auftritt?Eintritt fr
 ei - Spenden erbetenMit freundlicher Unterstützung der Partnerschaft für Demokratie 
 Schöneweide aus Mitteln des Bundesprogramms Demokratie leben!\n\nViel Spass w
 ünscht Gratis-in-Berlin\n\nLink zum Tip: \nZu den Gratis-in-Berlin Angeboten: h
 ttp://www.gratis-in-berlin.de\n
DTSTART;VALUE=DATE:20230917
DTEND;VALUE=DATE:20230918
SUMMARY:Philocafé: 'Generation Porno' - Welche Folgen hat die Sexualisierung 
 unserer Gesellschaft?
END:VEVENT
END:VCALENDAR
