BEGIN:VCALENDAR
VERSION:2.0
PRODID:-//Gratis-in-Berlin//NONSGML kigkonsult.se iCalcreator 2.14//
METHOD:PUBLISH
X-WR-CALNAME:Gratis-in-Berlin Tip Kalender
X-WR-CALDESC:Erhalte Gratis-in-Berlin Tips in deinem Kalender
BEGIN:VEVENT
UID:20260420T143204UTC-44935DJlp2@Gratis-in-Berlin
DTSTAMP:20260420T143204Z
DESCRIPTION:Sie haben bereits einen oder mehrere Infoabende zum Thema Hospi
 zbegleitung im Hospizdienst West besucht und sich entschlossen das Team zu
  verstärken? Dann heißen wir Sie herzlich willkommen zum Vorbereitungskurs (L
 aufzeit Theorie: 17.11.2023 ? 18.05.2024) für ehrenamtliche Lebens- und Sterbeb
 egleiter*innen.Gemeinsam werden wir uns in 103 theoretischen Unterrichtsei
 nheiten und mindestens 4 praktischen Einsätzen erarbeiten\, was Lebens- und 
 Sterbebegleitung heißt\, nämlich: Da sein\, sich Zeit nehmen\, Geborgenheit u
 nd Sicherheit schaffen und Begegnungen ermöglichen. Auch die Beratung und Unt
 erstützung bei persönlichen\, pflegerischen und sozialen Fragen am Lebensende werd
 en wichtige Themen sein. Uns als Lebens- und Sterbebegleiter*innen ist es 
 ein besonderes Anliegen\, sterbenden Menschen und deren Nahestehenden ein 
 hohes Maß an Eigenständigkeit zu ermöglichen\, damit sie bis zuletzt in ihrer ve
 rtrauten Umgebung bleiben können.Daneben schaffen wir Ihnen als Kursteilnehme
 r*innen auch Raum\, indem Sie sich einerseits mit Ihren Fähigkeiten und Wünschen 
 einbringen können\, anderseits bekommen Sie die Gelegenheit zur Begegnung und
  zum Austausch mit Gleichgesinnten. Des Weiteren können Sie nach Teilnahme am
  Vorbereitungskurs in Fortbildungen Ihr Wissen zur Lebens- und Sterbebegle
 itung im Einsatzfeld erweitern. Hierbei werden Sie durch regelmäßig stattfin
 dende Supervisionen begleitet und unterstützt.Hinweis des VeranstaltersDie Vera
 nstaltenden behalten sich vor\, von ihrem Hausrecht Gebrauch zu machen und
  Personen\, die rechtsextremen Parteien oder Organisationen angehören\, der r
 echtsextremen Szene zuzuordnen sind oder bereits in der Vergangenheit durc
 h rassistische\, nationalistische\, antisemitische oder sonstige menschenv
 erachtende Äußerungen in Erscheinung getreten sind\, den Zutritt zur Veranst
 altung zu verwehren oder von dieser auszuschließen.Information &amp\; Anmel
 dungRikke Voetmann-Groß+49 174 1631588west@hospiz-fuer-berlin.de\n\nViel Sp
 ass wünscht Gratis-in-Berlin\n\nLink zum Tip: \nZu den Gratis-in-Berlin Angebot
 en: http://www.gratis-in-berlin.de\n
DTSTART;VALUE=DATE:20231117
DTEND;VALUE=DATE:20231118
SUMMARY:Beginn Vorbereitungskurs Lebens- und Sterbebegleitung Hospizdienst 
 West
END:VEVENT
END:VCALENDAR
