BEGIN:VCALENDAR
VERSION:2.0
PRODID:-//Gratis-in-Berlin//NONSGML kigkonsult.se iCalcreator 2.14//
METHOD:PUBLISH
X-WR-CALNAME:Gratis-in-Berlin Tip Kalender
X-WR-CALDESC:Erhalte Gratis-in-Berlin Tips in deinem Kalender
BEGIN:VEVENT
UID:20260424T131641UTC-9027jvF7u0@Gratis-in-Berlin
DTSTAMP:20260424T131641Z
DESCRIPTION:Eine Gesprächsreihe der Guardini Stiftung e. V. und der Konrad-Ad
 enauer-StiftungMit Prof. Dr. Hans Joachim HöhnModeration: Prof. Dr. Thomas Br
 ose (Guardini Stiftung e. V.) und Dr. Joachim Klose (Konrad-Adenauer-Stift
 ung)'Wohnst du noch oder lebst du schon?' ? so bewirbt eine Möbelkette ihre P
 roduktpalette. Diese und ähnliche Sprüche kennen die meisten. Sie haben sich in v
 ielen Köpfen regelrecht festgesetzt. Warum das so ist? Werbebotschaften wolle
 n Menschen bei ihren tiefsten Gefühlen packen.Aber worin besteht der Unterschie
 d zwischen ?Wohnen? und ?Leben?? Die meisten wissen intuitiv sofort\, was 
 gemeint ist: Menschen sehnen sich danach\, nicht bloß ein Dach über dem Kopf zu 
 haben\, sondern viel elementarer ? nämlich metaphysisch ? verankert und behe
 imatet zu sein.Wahrscheinlich ist den Werbeprofis\, die für IKEA den erfolgreic
 hsten Slogan der letzten zwei Jahrzehnte kreiert haben\, gar nicht bewusst
 \, dass sie damit ? weit über den Zeitgeist hinaus ? in visionärer Weise tiefere 
 Schichten des Menschseins berühren.Religion war und ist eine grundlegende Trieb
 kraft moderner Gesellschaften. Die Veranstaltungsreihe 'Wozu Religion?' wi
 ll einen Beitrag dazu leisten\, darüber nachzudenken\, warum es weiterhin sinnv
 oll ist\, vom Heiligen und von Gott zu sprechen ? angesichts eines radikal
  säkularen ?Berliner Kontextes?.\n\nViel Spass wünscht Gratis-in-Berlin\n\nLink z
 um Tip: \nZu den Gratis-in-Berlin Angeboten: http://www.gratis-in-berlin.d
 e\n
DTSTART;VALUE=DATE:20231122
DTEND;VALUE=DATE:20231123
SUMMARY:Wozu Religion? | ?Nicht ganz bei sich selbst? ? Mystik und Logik de
 r Selbsttranszendenz
END:VEVENT
END:VCALENDAR
