BEGIN:VCALENDAR
VERSION:2.0
PRODID:-//Gratis-in-Berlin//NONSGML kigkonsult.se iCalcreator 2.14//
METHOD:PUBLISH
X-WR-CALNAME:Gratis-in-Berlin Tip Kalender
X-WR-CALDESC:Erhalte Gratis-in-Berlin Tips in deinem Kalender
BEGIN:VEVENT
UID:20260420T172512UTC-17419jVCxE@Gratis-in-Berlin
DTSTAMP:20260420T172512Z
DESCRIPTION:Wie kann es uns gelingen\, mehr Bürger*innen für eine demokratisierte Zuk
 unftsgestaltung zu gewinnen? Wie können wir Menschen Lust darauf machen\, über die
  Zukunft im Übermorgen nachzudenken und mit anderen darüber zu sprechen? Welche 
 Zukunftskompetenzen ermöglichen es\, sich voll auf die Faszination und die Vi
 elschichtigkeit der Zukunft einzulassen ? und vor allem: wie können wir diese
  Fähigkeiten trainieren?Xtopien sind ein spielerischer Ansatz zur transforma
 tiven Bildung. Inhaltlich stehen sie zwischen Utopien und Dystopien\, denn
  die Zukunft wird genauso vielschichtig und widersprüchlich sein wie die Gegenw
 art. Methodisch verbinden Xtopien große Zukunftsfragen mit spielerischen Fo
 rmaten an ganz konkreten Gegenständen und Prozessen. Diese ermöglichen\, sich i
 n Zukunftsvorstellungen hineinzudenken und - zu fühlen\, um sie dann weiter abz
 uwägen\, mit eigenen Werten und Visionen abzugleichen und zu reflektieren.De
 r Workshop ist eine herzliche Einladung an alle Bildungsakteur*innen\, Kul
 turschaffenden\, Teamer*innen\, Förder*innen\, Aktivist*innen und Interessier
 te\, die mit Xtopien Zukunftsthemen aufgreifen wollen. Ihr lernt den Ansat
 z kennen\, könnt xtopische Tools selbst ausprobieren und bekommt Tipps\, wie 
 ihr eine eigene Xtopie entwickeln könnt.Wir freuen uns darauf\, euch geballte
 s Erfahrungswissen aus unserem mehrjährigen Forschungsprojekt ?Urbane Xtopie
 n ? Freiräume der Zukunft? weiterzugeben\, das von der Robert Bosch Stiftung
  gefördert wurde.TEILNEHMER*INNEN-&gt\; Dr. Jasmin Jossin\, Stadtpsychologin 
 und Nachhaltigkeitswissenschaftlerin-&gt\; Tanja Godlewsky\, Designerin-&g
 t\; Dr. Richard Beecroft\, Nachhaltigkeitswissenschaftleralle: KIT-Zentrum
  Mensch und Technik\, Karlsruher Institut für TechnologieINFORMATIONEN-&gt\; Ve
 ranstaltungsort: Workshop Futurium Lab (UG)-&gt\; Eintritt: kostenfrei-&gt
 \; Veranstaltungssprache: Deutsch-&gt\; Max. Teilnehmer*innenzahl: 30 Pers
 onen-&gt\; Teilnahmebedingungen: keine Vorkenntnisse erforderlich-&gt\; De
 r Workshop eignet sich für Erwachsene ab 16 Jahren.ZUGÄNGLICHKEITWir sind ein ro
 llstuhlgerechter Veranstaltungsort.Zukunft ist für alle da! Das Futurium möchte für all
 e Menschen zugänglich sein. Wenn es eurerseits weitere Zugangsbedürfnisse gibt\, 
 teilt sie uns gern mit. Wir versuchen\, sie zu erfüllen: info@futurium.deHier f
 indet ihr alle Informationen zur Barrierefreiheit: https://futurium.de/de/
 barrierefreiheitFOTO &amp\; VIDEOWährend der Veranstaltung werden Fotos und 
 Videos gemacht. Wenn ihr nicht abgebildet werden wollt\, meldet euch bitte
  vorab.TICKETSFür diese Veranstaltung benötigt ihr ein Ticket. Hier gelangt ihr zu
 m Ticketshop: https://tickets.futurium.de/#/product/event/763?date=2023-11
 -24&amp\;date_id=14113&amp\;lang=de\n\nViel Spass wünscht Gratis-in-Berlin\n\nL
 ink zum Tip: \nZu den Gratis-in-Berlin Angeboten: http://www.gratis-in-ber
 lin.de\n
DTSTART;VALUE=DATE:20231124
DTEND;VALUE=DATE:20231125
SUMMARY:Xtopien: Ein neues Werkzeug\, um ambivalente Zukünfte zu denken
END:VEVENT
END:VCALENDAR
