BEGIN:VCALENDAR
VERSION:2.0
PRODID:-//Gratis-in-Berlin//NONSGML kigkonsult.se iCalcreator 2.14//
METHOD:PUBLISH
X-WR-CALNAME:Gratis-in-Berlin Tip Kalender
X-WR-CALDESC:Erhalte Gratis-in-Berlin Tips in deinem Kalender
BEGIN:VEVENT
UID:20260420T130216UTC-8751fUjhle@Gratis-in-Berlin
DTSTAMP:20260420T130216Z
DESCRIPTION:Digitale Medien sind aus der kulturellen Bildung nicht mehr weg
 zudenken und eröffnen vielfältige neue Möglichkeiten der Auseinandersetzung.Der Ma
 ker Space im Humboldt Forum bringt gezielt kulturgeschichtliche Themen mit
  innovativen Technologien zusammen und bietet Angebote für Kinder\, Jugendliche
  und Erwachsene. Inspiriert von den Brüdern Humboldt werden Hologramme programm
 iert\, virtuelle Utopien geschaffen und mit Laser Cutter\, 3D-Drucker &amp
 \; Co fantasievolle Alltagsgegenstände gestaltet. Die Fortbildung gibt einen
  Einblick in die digitalen Bildungsangebote des Humboldt Forums und stellt
  die Vermittlungsformate des Maker Space vor. Gemeinsam erproben die Teiln
 ehmer*innen die verwendete Software und Methodik und diskutieren\, wie sie
  sich in andere Bildungskontexte übertragen lassen.- ab 18 Jahren- max. 25 Pers
 onen- kostenlos- Sprache: Deutsch- Ort: Werkräume\, 1. OG\n\nViel Spass wünscht G
 ratis-in-Berlin\n\nLink zum Tip: \nZu den Gratis-in-Berlin Angeboten: http
 ://www.gratis-in-berlin.de\n
DTSTART;VALUE=DATE:20231116
DTEND;VALUE=DATE:20231117
SUMMARY:Making Meets Museum. Fortbildung für Lehrkräfte und Multiplikator*innen
END:VEVENT
END:VCALENDAR
