BEGIN:VCALENDAR
VERSION:2.0
PRODID:-//Gratis-in-Berlin//NONSGML kigkonsult.se iCalcreator 2.14//
METHOD:PUBLISH
X-WR-CALNAME:Gratis-in-Berlin Tip Kalender
X-WR-CALDESC:Erhalte Gratis-in-Berlin Tips in deinem Kalender
BEGIN:VEVENT
UID:20260424T131053UTC-3570vMmv3a@Gratis-in-Berlin
DTSTAMP:20260424T131053Z
DESCRIPTION:Zukunft erleben an deiner Schule ? jetzt mehr erfahren!Ihr woll
 t die Zukunft schon heute erleben und dabei auch noch etwas lernen? Dann s
 eid dabei\, wenn wir euch das neueste Projekt des Futuriums vorstellen: Da
 s Mobile Futurium! Dieses mobile Bildungsangebot bringt die Zukunft direkt
  zu euch in die Schule und ermöglicht es euch\, spielerisch und interaktiv di
 e Herausforderungen und Chancen von morgen zu erkunden.Ab 2024 starten wir
  unsere Tour mit dem Mobilen Futurium und besuchen Schulen außerhalb von Ba
 llungsgebieten. Mit dabei haben wir ein Angebot aus Workshops\, FabLab-Wer
 kzeugen und Material zu Zukünftebildung. Mithilfe des Mobilen Futuriums gehen w
 ir der Frage nach\, welche lokalen und globalen Herausforderungen uns heut
 e begegnen und wie wir gemeinsam Lösungen dafür entwickeln können. Bei unserer Online
 -Veranstaltung erfahrt ihr mehr über das Projekt und wie ihr daran teilnehmen k
 önnt. Wir zeigen euch\, wie eine Durchführungswoche an eurer Schule aussehen kann 
 und stellen euch die Workshop-Angebote sowie Themenfelder vor\, die behand
 elt werden. Lasst euch beim Besuch des Mobilen Futuriums inspirieren und e
 rlangt die Zukunftskompetenz\, die ihr braucht\, um aktiv an der Gestaltun
 g eurer eigenen Zukunft mitzuwirken!Mit unserer Veranstaltung richten wir 
 uns an Lehrer*innen\, Multiplikator*innen\, Schüler*innen und Eltern\, die an e
 inem Besuch des Mobilen Futuriums interessiert sind. Gemeinsam wollen wir 
 euch ermutigen\, die Zukunft als Chance zu begreifen und selbstbestimmt mi
 tzugestalten.Bei Fragen stehen wir euch gerne unter mobil@futurium.de zur 
 Verfügung. Meldet euch jetzt an und erlebt die Zukunft bald hautnah!Das Projekt
  ?Mobiles Futurium ? ein Modellprojekt an der Schnittstelle von Praxis und
  Forschung? wird durch das BMBF-Rahmenprogramm für die Geistes- und Sozialwisse
 nschaften ?Gesellschaft verstehen ? Zukunft gestalten? gefördert.VERANSTALTUN
 GSPLATTFORMDiese Veranstaltung findet online per Zoom statt. Weitere Infor
 mationen zu Zoom findest du hier: https://explore.zoom.us/de/products/meet
 ings/Der Zoom-Link wird nach vollständiger Anmeldung via E-Mail verschickt.D
 ie Benutzung von Zoom ist grundsätzlich kostenfrei. Als Teilnehmer*in der On
 line-Workshops benötigst du weder einen Account noch eine Registrierung bei Z
 oom.INFORMATIONEN-&gt\; Veranstaltungsort: online (Zoom)-&gt\; Teilnahme: 
 kostenfrei-&gt\; Veranstaltungssprache: Deutsch-&gt\; Max. Teilnehmer*inne
 nzahl: 30 Personen-&gt\; Teilnahmebedingungen: keineTICKETSFür diese Veranstalt
 ung benötigt ihr ein Ticket. Hier gelangt ihr zum Ticketshop: https://tickets
 .futurium.de/#/product/event/707?date=2023-11-22&amp\;date_id=14493&amp\;l
 ang=de\n\nViel Spass wünscht Gratis-in-Berlin\n\nLink zum Tip: \nZu den Gratis-
 in-Berlin Angeboten: http://www.gratis-in-berlin.de\n
DTSTART;VALUE=DATE:20231122
DTEND;VALUE=DATE:20231123
SUMMARY:Projektvorstellung: Das Mobile Futurium on Tour
END:VEVENT
END:VCALENDAR
