BEGIN:VCALENDAR
VERSION:2.0
PRODID:-//Gratis-in-Berlin//NONSGML kigkonsult.se iCalcreator 2.14//
METHOD:PUBLISH
X-WR-CALNAME:Gratis-in-Berlin Tip Kalender
X-WR-CALDESC:Erhalte Gratis-in-Berlin Tips in deinem Kalender
BEGIN:VEVENT
UID:20260420T172518UTC-9630rvpTz1@Gratis-in-Berlin
DTSTAMP:20260420T172518Z
DESCRIPTION:Präsentation des neuen Wandkalenders 2024Hierzu laden ein:- Gisel
 a Notz (Herausgeberin und Autorin)- Heike Notz (Moderatorin)- Hannelore Zi
 mmermann und Waldemar Schindowski (Verlag AG Spak)Von den im Kalender vorg
 estellten Frauen werden präsentiert:Claudia Jones | Margarete Hilferding | V
 ioleta ParraEugenia Tapia begleitet mit Gitarre und Gesang die Vorstellung
  der Wegbereiterinnen.Der Wandkalender 2024 gibt wieder Auskunft über zwölf Wegber
 eiterinnen der emanzipatorischen Frauenbewegung aus zwei Jahrhunderten.Man
 che Kämpfe sind bis heute nicht ausgefochten.\n\nViel Spass wünscht Gratis-in-Ber
 lin\n\nLink zum Tip: \nZu den Gratis-in-Berlin Angeboten: http://www.grati
 s-in-berlin.de\n
DTSTART;VALUE=DATE:20231117
DTEND;VALUE=DATE:20231118
SUMMARY:'Wegbereiterinnen XXII' - Kalender-Präsentation im RegenbogenKino
END:VEVENT
END:VCALENDAR
