BEGIN:VCALENDAR
VERSION:2.0
PRODID:-//Gratis-in-Berlin//NONSGML kigkonsult.se iCalcreator 2.14//
METHOD:PUBLISH
X-WR-CALNAME:Gratis-in-Berlin Tip Kalender
X-WR-CALDESC:Erhalte Gratis-in-Berlin Tips in deinem Kalender
BEGIN:VEVENT
UID:20260420T173905UTC-6213goJVAK@Gratis-in-Berlin
DTSTAMP:20260420T173905Z
DESCRIPTION:6. Lichtenberg Selbsthilfe-Forum ?Resilienz in der Selbsthilfe 
 - Widerstandskraft für die Psyche'Wir\, die Kontaktstelle Horizont\, die Kontak
 tstelle Synapse und die Kontaktstelle PflegeEngagement Lichtenberg\, wolle
 n Sie recht herzlich zu unserem 6. Lichtenberg Selbsthilfe-Forum ?Resilien
 z in der Selbsthilfe - Widerstandskraft für die Psyche' einladen. Geplant sind 
 ein Vortrag\, der diesen Themenbereich aus einer theoretischen Perspektive
  beleuchtet sowie zwei Beiträge mit praktischen Übungen. Die Veranstaltung wi
 rd durch ein Podiumsgespräch mit Selbsthilfe Aktiven abgerundet.Wann: Freita
 g\, der 17.11.2023Uhrzeit: 10:00 ? 14:00 UhrWo: Nachbarschaftshaus Oranger
 ie\, Schulze-Boysen-Straße 38\, 10365 BerlinFür kleine Snacks und Getränke wird währ
 end des Treffens gesorgt. Weiterhin kann beim Service vor Ort auch eine Kl
 einigkeit zum Mittag erworben werden.Wir freuen uns auf Ihre Teilnahme!Bit
 te melden Sie sich allerspätestens bis zum 10.11.2023 per Mail an selbsthilf
 eforum@kiezspinne.de oder telefonisch unter 030/28 47 23 95 an.\n\nViel Sp
 ass wünscht Gratis-in-Berlin\n\nLink zum Tip: \nZu den Gratis-in-Berlin Angebot
 en: http://www.gratis-in-berlin.de\n
DTSTART;VALUE=DATE:20231117
DTEND;VALUE=DATE:20231118
SUMMARY:6. Lichtenberg Selbsthilfe-Forum ?Resilienz in der Selbsthilfe - Wi
 derstandskraft für die Psyche'
END:VEVENT
END:VCALENDAR
