BEGIN:VCALENDAR
VERSION:2.0
PRODID:-//Gratis-in-Berlin//NONSGML kigkonsult.se iCalcreator 2.14//
METHOD:PUBLISH
X-WR-CALNAME:Gratis-in-Berlin Tip Kalender
X-WR-CALDESC:Erhalte Gratis-in-Berlin Tips in deinem Kalender
BEGIN:VEVENT
UID:20260424T114225UTC-2769u0ZxVA@Gratis-in-Berlin
DTSTAMP:20260424T114225Z
DESCRIPTION:Unser Essen hat einen großen Einfluss auf das Klima\, denn fast 
 ein Drittel aller klimaschädlichen Gase entfallen auf den Bereich Landwirtsc
 haft und Ernährung. Es gibt aber eine gute Nachricht: Schon kleine Schritte 
 können eine Wirkung haben\, deshalb fängt Klimaschutz schon beim Frühstück an.Die Ve
 rbraucherzentrale Berlin vermittelt in diesem Vortrag einfach umsetzbare A
 lltagstipps für eine klimagesunde Ernährung ? von Regionalität\, Saisonalität über Transpo
 rtmittel bis hin zu Tierhaltungsformen. Denn Klimaschutz schmeckt! Der Vor
 trag findet in Kooperation mit der VHS Steglitz-Zehlendorf statt.\n\nViel 
 Spass wünscht Gratis-in-Berlin\n\nLink zum Tip: https://www.gratis-in-berlin.de
 /kalender/item/2063753-vortrag-klimaschutz-auf-dem-teller\nZu den Gratis-i
 n-Berlin Angeboten: http://www.gratis-in-berlin.de\n
DTSTART;VALUE=DATE:20231122
DTEND;VALUE=DATE:20231123
SUMMARY:Vortrag: Klimaschutz auf dem Teller 
END:VEVENT
END:VCALENDAR
