BEGIN:VCALENDAR
VERSION:2.0
PRODID:-//Gratis-in-Berlin//NONSGML kigkonsult.se iCalcreator 2.14//
METHOD:PUBLISH
X-WR-CALNAME:Gratis-in-Berlin Tip Kalender
X-WR-CALDESC:Erhalte Gratis-in-Berlin Tips in deinem Kalender
BEGIN:VEVENT
UID:20260420T143201UTC-4376tTurPX@Gratis-in-Berlin
DTSTAMP:20260420T143201Z
DESCRIPTION:Seid dabei\, bei der Premiere der demokratiepolitischen Spielsh
 ow! Fiebert live mit bei den Denksportaufgaben\, und entscheidet mit über den A
 usgang der Show. Mit der Spielshow 'DEMOCRACY ON FIRE? heizen wir der Demo
 kratie ein. Die Klimakrise bedroht einen fiktiven Planeten. Vier Held*inne
 n machen sich auf\, ihn zu retten. Ihre Mission ist gespickt mit herausfor
 dernden Aufgaben und komplexen Entscheidungen. Sie kämpfen gegen Umweltprobl
 eme\, gegen die Spaltung der Gesellschaft ? und gegen die Zeit. Können die Sp
 ieler*innen das Publikum überzeugen und auf ihre Seite ziehen? Es geht um nicht
  weniger als unser aller Zukunft. Unsere Spielshow ?Democracy on Fire? ist
  ein neues Format der Politikvermittlung und geht weit über klassische Talkshow
 s hinaus. Hier müssen Teamarbeit und Kompromissbereitschaft bewiesen werden\, d
 enn nur so lassen sich aktuelle Krisen ? von der Klimakrise bis zur sozial
 en Ungleichheit ? lösen. Die Gäst*innen sind Persönlichkeiten aus Wissenschaft\, P
 olitik und Zivilbevölkerung. So unterschiedlich ihre Fähigkeiten auch sein mögen ?
  gemeinsam können sie alles erreichen. Doch ohne das Publikum sind auch die v
 ier Held*innen aufgeschmissen\, denn dessen Unterstützung ist entscheidend für die e
 rfolgreiche Mission auf dem fiktiven Planeten. Seid dabei\, wenn wir der D
 emokratie einheizen und die Welt retten! 'DEMOCRACY ON FIRE' die demokrati
 epolitische Spielshow von Das Progressive Zentrum in Kooperation mit dem F
 uturium\, dem Haus der Zukünfte. INFORMATIONEN -&gt\; Veranstaltungsort: Forum 
 -&gt\; Eintritt: Reg. 10 ?/ erm. 5 ?. -&gt\; Veranstaltungssprache: Deutsc
 h -&gt\; Ein Ticket ist erforderlich. Restkarten sind an der Abendkasse er
 hältlich. ZUGÄNGLICHKEIT -&gt\; Wir sind ein rollstuhlgerechter Veranstaltung
 sort. -&gt\; Plätze ohne Bestuhlung stehen Rollstuhlfahrer*innen zur Verfügung. -
 &gt\; Eine Induktionsschleifenanlage ist verfügbar. -&gt\; Wir lassen Plätze frei
 \, falls ihr aufgrund von Seheinschränkungen nah an der Bühne sitzen wollt. -&gt\
 ; Menschen mit Seheinschränkungen sind willkommen. Blindenführungsassistenz frage
 n wir an\, wenn ihr Bedarf habt. Zukunft ist für alle da! Das Futurium möchte für alle 
 Menschen zugänglich sein. Wenn es eurerseits weitere Zugangsbedürfnisse gibt\, te
 ilt sie uns gern mit. Wir versuchen\, sie zu erfüllen: info@futurium.deHier fin
 det ihr alle Informationen zur Barrierefreiheit: https://futurium.de/de/ba
 rrierefreiheitFOTO &amp\; VIDEO Während der Veranstaltung werden Fotos gemac
 ht. Wenn ihr nicht abgebildet werden wollt\, meldet euch bitte vorab. TICK
 ETS Für diese Veranstaltung benötigt ihr ein Ticket. Hier gelangt ihr zum Ticketsh
 op: https://tickets.futurium.de/#/product/event/758?date=2023-11-17&amp\;d
 ate_id=13928&amp\;lang=de\n\nViel Spass wünscht Gratis-in-Berlin\n\nLink zum Ti
 p: \nZu den Gratis-in-Berlin Angeboten: http://www.gratis-in-berlin.de\n
DTSTART;VALUE=DATE:20231117
DTEND;VALUE=DATE:20231118
SUMMARY:Democracy on Fire ? Die demokratische Spielshow mit prominenten Gäst*
 innen
END:VEVENT
END:VCALENDAR
