BEGIN:VCALENDAR
VERSION:2.0
PRODID:-//Gratis-in-Berlin//NONSGML kigkonsult.se iCalcreator 2.14//
METHOD:PUBLISH
X-WR-CALNAME:Gratis-in-Berlin Tip Kalender
X-WR-CALDESC:Erhalte Gratis-in-Berlin Tips in deinem Kalender
BEGIN:VEVENT
UID:20260422T104805UTC-8430CVmTuW@Gratis-in-Berlin
DTSTAMP:20260422T104805Z
DESCRIPTION:Dienstag\, 21.11.2023\, 15:00?17:00 Uhr (online) Die schriftlic
 he Bewerbung ist die Eintrittskarte ins Vorstellungsgespräch und Wegbereiter
  zur Anstellung. Das Anschreiben bietet dabei den Raum zu zeigen\, warum g
 enau Sie diese Stelle bekommen sollten. Wie stelle ich meine Fähigkeiten und
  Erfahrungen so dar\, dass sie andere überzeugt? Zeigen Sie\, dass Sie die oder
  der Richtige sind. Hier erfahren Sie\, was Arbeitsgebende wirklich intere
 ssiert und worauf sie achten. Professionelle Unterlagen sind die beste Vor
 bereitung für eine Einstellung!\n\nViel Spass wünscht Gratis-in-Berlin\n\nLink zum T
 ip: \nZu den Gratis-in-Berlin Angeboten: http://www.gratis-in-berlin.de\n
DTSTART;VALUE=DATE:20231121
DTEND;VALUE=DATE:20231122
SUMMARY:ONLINE! Meine schriftliche Bewerbung ? Das Anschreiben 
END:VEVENT
END:VCALENDAR
