BEGIN:VCALENDAR
VERSION:2.0
PRODID:-//Gratis-in-Berlin//NONSGML kigkonsult.se iCalcreator 2.14//
METHOD:PUBLISH
X-WR-CALNAME:Gratis-in-Berlin Tip Kalender
X-WR-CALDESC:Erhalte Gratis-in-Berlin Tips in deinem Kalender
BEGIN:VEVENT
UID:20260420T130257UTC-6816hSDjGk@Gratis-in-Berlin
DTSTAMP:20260420T130257Z
DESCRIPTION:Der Südwestkirchhof Stahnsdorf als Ort der Trauer\, des Gedenkens un
 d der Regeneration und des kulturellen LebensGAST: Olaf IhlefeldtO. Ihlefe
 ldt ist 1967 in Potsdam geboren und aufgewachsen auf dem Land\, in Potsdam
 -Mittelmark. In Sanssouci hat er die Lehre zum Gärtner absolviert und mit ei
 nem Abschluss zum Gärtner Meister beendet. Seit Januar 1989 ist er bei der E
 vangelischen Kirche Berlin-Brandenburg-schlesische Oberlausitz angestellt 
 und dort seit 1991 als Leiter des Südwest-kirchhof Stahnsdorf tätig. Im Ehrenamt 
 Gründer des Förderverein Südwestkirchhof Stahnsdorf e.V. und dort aktiv engagiert mit d
 er Organisation von Kulturaktionen wie Konzerten\, Führungen und Sommerabenden\
 , mit der Vision\, den Friedhof als Ort des Gedenkens und als Ort des Lebe
 ns sowie der Begegnung zu prägen.Friedhöfe haben sich in den zurückliegenden Jahrzeh
 nten zu traurigen Orten entwickelt\, da die Themen Sterben\, Tod und Traue
 r gesellschaftlich weitestgehend tabuisiert werden. Doch diese schweren Th
 emen des Lebens begleiten die Menschen permanent. Durch neue Wege auf dem 
 Südwestkirchhof lernen Menschen wieder offen mit diesen Themen umzugehen. Auf d
 em Südwestkirchhof werden nicht nur Verstorbene zu Grabe getragen\, die Familie
 n\, Freunde und Bekannte werden immer wieder eingeladen bei diversen Veran
 staltungen Zeit auf dem Friedhof zu verbringen. Trauernde verbringen immer
  mehr Zeit ganz bei den Gräbern Ihrer Verstorbenen und Andere beginnen sich 
 unbeschwert mit dem Werden und Vergehen auseinanderzusetzen.Sie sind herzl
 ich eingeladenElizabeth Schmidt-Pabst\,&nbsp\;Leitung Ambulanter Lazarus H
 ospizdienstAnette Adam\,&nbsp\;Leitung Stationäres Lazarus Hospiz\n\nViel Sp
 ass wünscht Gratis-in-Berlin\n\nLink zum Tip: \nZu den Gratis-in-Berlin Angebot
 en: http://www.gratis-in-berlin.de\n
DTSTART;VALUE=DATE:20231113
DTEND;VALUE=DATE:20231114
SUMMARY:Einladung zum Lazarus Hospiz - Forumabend: Der Friedhof lebt
END:VEVENT
END:VCALENDAR
