BEGIN:VCALENDAR
VERSION:2.0
PRODID:-//Gratis-in-Berlin//NONSGML kigkonsult.se iCalcreator 2.14//
METHOD:PUBLISH
X-WR-CALNAME:Gratis-in-Berlin Tip Kalender
X-WR-CALDESC:Erhalte Gratis-in-Berlin Tips in deinem Kalender
BEGIN:VEVENT
UID:20260420T142001UTC-4810r7NVa1@Gratis-in-Berlin
DTSTAMP:20260420T142001Z
DESCRIPTION:Mit Salka Schallenberg (Autorin)Salka Schallenberg erforscht de
 n Umgang der DDR-Kulturfunktionäre mit dem künstlerischen Nachlass ihres Großvater
 s Otto Nagel. Für ihr Buch hat sie auch MfSUnterlagen ausgewertet.Die Veranstal
 tungen findet in Haus 7 des Stasi-Unterlagen-Archivs\, Raum 427 statt.Der 
 Eintritt ist frei. Eine Anmeldung ist nicht erforderlich.\n\nViel Spass wünscht
  Gratis-in-Berlin\n\nLink zum Tip: \nZu den Gratis-in-Berlin Angeboten: ht
 tp://www.gratis-in-berlin.de\n
DTSTART;VALUE=DATE:20231116
DTEND;VALUE=DATE:20231117
SUMMARY:Recherche-Werkstatt: ?Der Fall Otto Nagel. Kunstraub in der DDR.?
END:VEVENT
END:VCALENDAR
