BEGIN:VCALENDAR
VERSION:2.0
PRODID:-//Gratis-in-Berlin//NONSGML kigkonsult.se iCalcreator 2.14//
METHOD:PUBLISH
X-WR-CALNAME:Gratis-in-Berlin Tip Kalender
X-WR-CALDESC:Erhalte Gratis-in-Berlin Tips in deinem Kalender
BEGIN:VEVENT
UID:20260420T080616UTC-0838ExOB4P@Gratis-in-Berlin
DTSTAMP:20260420T080616Z
DESCRIPTION:Der bevorstehende Klimagipfel COP 28 in Dubai Ende November könnte
  wieder ein 'großer' Gipfel werden\, auf dem ein neues Thema aufs Gleis ges
 etzt wird. Präsident der Veranstaltung ist ausgerechnet der Chef der Ölgesell
 schaft von Abu Dhabi (ADNOC)\, Sultan Ahmed Al Jaber\, zugleich Minister f
 ür Industrie und Zukunftstechnologie in der Regierung der Vereinigten Arabische
 n Emirate (VAE). Sowohl die umstrittene Personalie als auch der Konferenzo
 rt hatten bereits früh zu Protesten von Klima- und Bürgerrechtler*innen sowie NGOs g
 eführt\, die darin einen handfesten Interessenskonflikt sehen. Gleichzeitig hab
 en sich die VAE verpflichtet\, bis ins Jahr 2050 CO2-Neutralität zu erreiche
 n und setzen dabei in großem Stil auf Carbon-Capture-and Storage\, das Absc
 heiden und Speichern von Kohlendioxid (was als entscheidende Übergangstechn
 ologie auf dem Weg zur Klimaneutralität gilt). Wie glaubhaft sind Initiative
 n von Ölkonzernen wie die 'Global Decarbonisation Alliance'? Kapert die Ölin
 dustrie Carbon-Capture-and-Storage nun als neues Geschäftsfeld? Solchen Frag
 en gehen wir in diesem Workshop nach. Neben einem Überblick über die Verhandlung
 sthemen fokussieren wir auf das Thema CO2-Entzug. SeminarzeitenSa\, 18. No
 vember\, 14:00-17:00 Uhr SeminarortBildungswerk Berlin der Heinrich-Böll-Stif
 tungOlivaer Platz 16 (4.OG)\, 10707 Berlin Die Veranstaltung wird hybrid a
 ngeboten - eine Online-Teilnahme via Zoom ist möglich. Dies bitte bei der Anm
 eldung im Bemerkungsfeld angeben\, Zugangsdaten werden rechtzeitig vor der
  Veranstaltung zugesandt. Seminarleitung Christoph Meyer. Er übersetzt Wissensc
 haft und Politik zur Klimakrise in Alltagssprache und engagiert sich seit 
 1991 in der Umwelt- und Klimapolitik. Kaj Seeger. Bringt beim Carbon Round
 table CO2-Entzug-Akteure aus StartUps\, Industrie und NGOs zusammen.Die Ve
 ranstaltung wird realisiert aus Mitteln der Stiftung Deutsche Klassenlotte
 rie Berlin\n\nViel Spass wünscht Gratis-in-Berlin\n\nLink zum Tip: \nZu den Gra
 tis-in-Berlin Angeboten: http://www.gratis-in-berlin.de\n
DTSTART;VALUE=DATE:20231118
DTEND;VALUE=DATE:20231119
SUMMARY:Unfall auf der Ölspur? Der Klimagipfel in Dubai
END:VEVENT
END:VCALENDAR
