BEGIN:VCALENDAR
VERSION:2.0
PRODID:-//Gratis-in-Berlin//NONSGML kigkonsult.se iCalcreator 2.14//
METHOD:PUBLISH
X-WR-CALNAME:Gratis-in-Berlin Tip Kalender
X-WR-CALDESC:Erhalte Gratis-in-Berlin Tips in deinem Kalender
BEGIN:VEVENT
UID:20260420T172511UTC-1043KzrKx3@Gratis-in-Berlin
DTSTAMP:20260420T172511Z
DESCRIPTION:Bei der Auftakt-Veranstaltung der Reihe Montagsdebatte 2023/202
 4 ?Geschichte und Erinnerung heute? steht das Spannungsverhältnis von Politi
 k und Zeitgeschichte im Mittelpunkt. Welche Möglichkeiten hat die Politik\, z
 eitgeschichtliche Forschung und die Arbeit von Gedenkstätten zu beeinflussen
 ? Inwieweit sollten Zeithistoriker:innen wiederum die Politik beraten? Wo 
 sind die Grenzen der Zusammenarbeit? Diese und weitere Fragen werden bei d
 ieser Montagsdebatte diskutiert.Es debattieren:- Maria Bering (Abteilungsl
 eiterin ?Erinnerungskultur? bei der Beauftragten der&nbsp\;&nbsp\; &nbsp\;
  Bundesregierung für Kultur und Medien)- Prof. Dr. Frank Bösch (Leibniz-Zentrum für Zei
 thistorische Forschung Potsdam)- Prof. Dr. Jens-Christian Wagner (Stiftung
  Gedenkstätten Buchenwald und Mittelbau Dora)- Prof. Dr. Stefanie Middendorf
  (Friedrich-Schiller-Universität Jena)Moderation: Priv.-Doz. Dr. Winfried Süß (Le
 ibniz-Zentrum für Zeithistorische Forschung Potsdam)Ort: Humboldt-Universität zu 
 Berlin\, Festsaal LuisenstraßeDer Eintritt ist frei.Veranstalter:Netzwerk Z
 eitgeschichte\, ein Projekt der Stiftung Brandenburgische Gedenkstättenin Ko
 operation mit dem Leibniz-Zentrum für Zeithistorische Forschung Potsdam (ZZF) u
 nd der Humboldt-Universität zu Berlin (HU)und mit Unterstützung der Bundeszentral
 e für politische Bildung\n\nViel Spass wünscht Gratis-in-Berlin\n\nLink zum Tip: \nZ
 u den Gratis-in-Berlin Angeboten: http://www.gratis-in-berlin.de\n
DTSTART;VALUE=DATE:20231106
DTEND;VALUE=DATE:20231107
SUMMARY:Montagsdebatte 2023/2024: Politik und Zeitgeschichte. Ein schwierig
 es Verhältnis?
END:VEVENT
END:VCALENDAR
