BEGIN:VCALENDAR
VERSION:2.0
PRODID:-//Gratis-in-Berlin//NONSGML kigkonsult.se iCalcreator 2.14//
METHOD:PUBLISH
X-WR-CALNAME:Gratis-in-Berlin Tip Kalender
X-WR-CALDESC:Erhalte Gratis-in-Berlin Tips in deinem Kalender
BEGIN:VEVENT
UID:20260420T130218UTC-5627EKfDuP@Gratis-in-Berlin
DTSTAMP:20260420T130218Z
DESCRIPTION:To attend the event\, please register here:&nbsp\;https://go.es
 mt.berlin/todays-global-leader-roland-buschIt is our pleasure to invite yo
 u to Today?s Global Leader with Roland Busch\, president and CEO\, Siemens
  AG. Continuing the successful series\, Roland Busch will speak on the dig
 ital and sustainable transformation of all industries\, the competitivenes
 s of the German economy\, and his personal leadership style. Linus Dahland
 er\, professor of strategy and holder of the Lufthansa Group Chair in Inno
 vation\, ESMT Berlin\, will set the stage with opening remarks on the deve
 lopment of new ideas and innovations in organizations. The evening will be
  moderated by TV moderator\, journalist\, and consultant Astrid Frohloff.A
 bout the Today?s Global Leader event seriesToday?s Global Leader is an ESM
 T event series in hybrid format. Successful business leaders share their l
 eadership philosophies and position themselves on current political and ec
 onomic topics in an open discussion with moderator Astrid Frohloff. Intera
 ction with a diverse audience\, including international students and other
  young leaders\, is guaranteed.\n\nViel Spass wünscht Gratis-in-Berlin\n\nLink 
 zum Tip: \nZu den Gratis-in-Berlin Angeboten: http://www.gratis-in-berlin.
 de\n
DTSTART;VALUE=DATE:20231128
DTEND;VALUE=DATE:20231129
SUMMARY:Today?s Global Leader with Roland Busch\, President and CEO\, Sieme
 ns AG 
END:VEVENT
END:VCALENDAR
