BEGIN:VCALENDAR
VERSION:2.0
PRODID:-//Gratis-in-Berlin//NONSGML kigkonsult.se iCalcreator 2.14//
METHOD:PUBLISH
X-WR-CALNAME:Gratis-in-Berlin Tip Kalender
X-WR-CALDESC:Erhalte Gratis-in-Berlin Tips in deinem Kalender
BEGIN:VEVENT
UID:20260422T121621UTC-6482j3veOg@Gratis-in-Berlin
DTSTAMP:20260422T121621Z
DESCRIPTION:Prof. Dr. Frank Jacobi: ?Häufigkeit und Krankheitslast psychische
 r Störungen in unserer Gesellschaft? ? Öffentlicher Online-Vortrag im Rahmen d
 er Ringvorlesung ?Gesundheit in Gesellschaft' Psychische Störungen sind ? auc
 h im Vergleich mit vielen anderen Erkrankungen ? mit ausgesprochen hohen K
 osten verbunden. Nicht nur individuelles Leid und Belastung spielen hierbe
 i eine Rolle\, sondern auch direkte Behandlungskosten und insbesondere ind
 irekte Krankheitskosten (zum Beispiel Berentung und AU-Zeiten). Diese gese
 llschaftliche Krankheitslast scheint in den letzten Jahren deutlich zuzune
 hmen. In der Vorlesung werden epidemiologische und gesundheitsökonomische Bef
 unde vorgestellt und diskutiert\, die dabei helfen sollen\, dieses Phänomen 
 einzuordnen und hierzu auch Bedarfe für Prävention und Versorgung abzuleiten.\n
 &nbsp\;\nDer Vortrag ist Teil der Ringvorlesung 'Gesundheit in Gesellschaf
 t' der Psychologischen Hochschule Berlin (PHB) und findet online via Zoom 
 statt.\n&nbsp\;\nÜber den Referenten: Prof. Dr. Frank Jacobi ist Professor 
 und Leiter des Fachbereichs Klinische Psychologie und Psychotherapie mit S
 chwerpunkt Verhaltenstherapie an der PHB. Zu seinen Forschungsschwerpunkte
 n gehören die Verbreitung und Häufigkeit psychischer Erkrankungen und die psych
 otherapeutische Versorgungslage in Deutschland. \n\nViel Spass wünscht Gratis-i
 n-Berlin\n\nLink zum Tip: \nZu den Gratis-in-Berlin Angeboten: http://www.
 gratis-in-berlin.de\n
DTSTART;VALUE=DATE:20231123
DTEND;VALUE=DATE:20231124
SUMMARY:Häufigkeit und Krankheitslast psychischer Störungen in unserer Gesellsch
 aft ? Öffentlicher Web-Vortrag an der PHB
END:VEVENT
END:VCALENDAR
