BEGIN:VCALENDAR
VERSION:2.0
PRODID:-//Gratis-in-Berlin//NONSGML kigkonsult.se iCalcreator 2.14//
METHOD:PUBLISH
X-WR-CALNAME:Gratis-in-Berlin Tip Kalender
X-WR-CALDESC:Erhalte Gratis-in-Berlin Tips in deinem Kalender
BEGIN:VEVENT
UID:20260420T113447UTC-0366HiIfzM@Gratis-in-Berlin
DTSTAMP:20260420T113447Z
DESCRIPTION:Täglich werden in Berlin Wohnungen und Gebäude abgerissen\, doch je
 der Abriss verschärft die Wohnungskrise und schadet dem Klima. Was können wir d
 agegen tun? Das Anti-Abriss-Bündnis lädt zur gemeinsamen Diskussion in die Schill
 er-Bibliothek u.a. mit Mieter:innen\, deren Häuser vom Abriss bedroht sind\,
  Stadtaktivist:innen und dem Berliner Mieterverein.\n\nViel Spass wünscht Grati
 s-in-Berlin\n\nLink zum Tip: \nZu den Gratis-in-Berlin Angeboten: http://w
 ww.gratis-in-berlin.de\n
DTSTART;VALUE=DATE:20231123
DTEND;VALUE=DATE:20231124
SUMMARY:Podiumsdiskussion zum Thema ?Abriss verhindern - lasst die Häuser ste
 hen!?
END:VEVENT
END:VCALENDAR
