BEGIN:VCALENDAR
VERSION:2.0
PRODID:-//Gratis-in-Berlin//NONSGML kigkonsult.se iCalcreator 2.14//
METHOD:PUBLISH
X-WR-CALNAME:Gratis-in-Berlin Tip Kalender
X-WR-CALDESC:Erhalte Gratis-in-Berlin Tips in deinem Kalender
BEGIN:VEVENT
UID:20260420T130257UTC-5720WW3jrl@Gratis-in-Berlin
DTSTAMP:20260420T130257Z
DESCRIPTION:In Japan leben prozentual rund viermal so viele Menschen mit ei
 ner Demenz\, wie in Deutschland. Wie gehen die Kommunen und Nachbarn damit
  um und können wir etwas von den guten Ideen nach Berlin holen?Der GGV-Friedr
 ichshain-Kreuzberg möchte mit Ihnen ins Gespräch kommen: Was wünschen sich Zu- und A
 ngehörige und Menschen mit beginnender Demenz von der Kommune\, dem Kiez\, de
 n Nachbarn?Was hat Ehrenamtsengagement mit Demenzprävention zu tun?Wie kann 
 ein Café funktionieren\, in dem Menschen mit Demenz bedienen?Wir treffen uns
  online auf Zoom. Melden Sie sich an unter kontakt@ggv-fk.de. Wir schicken
  Ihnen den Link! Sie wünschen sich einen anderen Termin\, eine andere Uhrzeit? 
 Schreiben Sie uns an!Eine Veranstaltungsreihe des GGV-FK-e.V. Kommen&nbsp\
 ; Sie auch zu unserem GGV-Café am 14.11. 2023! Mehr unter www.ggv-fk.deFoto 
 von Beth Macdonald auf Unsplash\n\nViel Spass wünscht Gratis-in-Berlin\n\nLink 
 zum Tip: \nZu den Gratis-in-Berlin Angeboten: http://www.gratis-in-berlin.
 de\n
DTSTART;VALUE=DATE:20231108
DTEND;VALUE=DATE:20231109
SUMMARY:Japanisch Altern in Berlin- Demenz in der Kommune-Online Veranstalt
 ung
END:VEVENT
END:VCALENDAR
