BEGIN:VCALENDAR
VERSION:2.0
PRODID:-//Gratis-in-Berlin//NONSGML kigkonsult.se iCalcreator 2.14//
METHOD:PUBLISH
X-WR-CALNAME:Gratis-in-Berlin Tip Kalender
X-WR-CALDESC:Erhalte Gratis-in-Berlin Tips in deinem Kalender
BEGIN:VEVENT
UID:20260420T143203UTC-7665L0EFBi@Gratis-in-Berlin
DTSTAMP:20260420T143203Z
DESCRIPTION:Unsere Workshop-Reihe ?Digital Forschen mit dem Calliope Mini? 
 bietet 13 spannende Veranstaltungen für alle Altersgruppen.Egal\, wie jung oder
  alt du bist\, In unseren Workshops wirst du Schritt für Schritt in die Welt de
 s Programmierens und des kreativen Umgangs mit modernster Technologie eing
 eführt.Der Calliope Mini\, ein kleiner\, programmierbarer Minicontroller\, steh
 t im Mittelpunkt unserer Angebote.Besonders spannend: Unsere Workshops fin
 den Makerspace der Mittepunktbibliothek Schöneberg statt ? dein Raum zum Erle
 ben und Staunen\, zum Entdecken und Ausprobieren und zum Lernen und Erscha
 ffen. Bereit für Abenteuer in der Welt der Technologie?Dann komm zu unseren Wor
 kshops und werde Teil unserer digitalen Community.Wir freuen uns auf dich.
 \n\nViel Spass wünscht Gratis-in-Berlin\n\nLink zum Tip: \nZu den Gratis-in-Ber
 lin Angeboten: http://www.gratis-in-berlin.de\n
DTSTART;VALUE=DATE:20231127
DTEND;VALUE=DATE:20231128
SUMMARY:Digital Forschen - Internet of Things und vernetzte Systeme mit dem
  Calliope Mini 
END:VEVENT
END:VCALENDAR
